BEGIN:VCALENDAR
VERSION:2.0
PRODID:-//achurchnearyou.com//eventfeed//EN
CALSCALE:GREGORIAN
METHOD:PUBLISH
X-WR-TIMEZONE:UTC
BEGIN:VEVENT
SUMMARY:Ash Wednesday Worship at St Clement's
DTSTART:20260218T180000Z
DTEND:20260218T190000Z
DTSTAMP:20260424T063821Z
UID:12942442026-02-18 18:00:00+00:00achurchnearyou
CATEGORIES:
DESCRIPTION:Ash Wednesday service\, not Communion.
LOCATION:St Clement's Church
URL:https://www.achurchnearyou.com/church/18964/service-and-events/events/
 1294244/
END:VEVENT
END:VCALENDAR
