BEGIN:VCALENDAR
VERSION:2.0
PRODID:-//achurchnearyou.com//eventfeed//EN
CALSCALE:GREGORIAN
METHOD:PUBLISH
X-WR-TIMEZONE:UTC
BEGIN:VEVENT
SUMMARY:The Good Friday service will take place at Central Methodist Churc
 h\, St Saviourgate
DTSTART:20260403T090000Z
DTEND:20260403T100000Z
DTSTAMP:20260421T121328Z
UID:13107492026-04-03 09:00:00+00:00achurchnearyou
CATEGORIES:
DESCRIPTION:No service at St Denys's today
URL:https://www.achurchnearyou.com/church/18965/service-and-events/events/
 1310749/
END:VEVENT
END:VCALENDAR
