BEGIN:VCALENDAR
VERSION:2.0
PRODID:-//achurchnearyou.com//eventfeed//EN
CALSCALE:GREGORIAN
METHOD:PUBLISH
X-WR-TIMEZONE:UTC
BEGIN:VEVENT
SUMMARY:Eucharist with hymns
DTSTART:20260330T183000Z
DTEND:20260330T193000Z
DTSTAMP:20260421T121709Z
UID:13107532026-03-30 18:30:00+00:00achurchnearyou
CATEGORIES:
DESCRIPTION:This City Centre Churches service will take place in St Denys'
  Church
URL:https://www.achurchnearyou.com/church/18965/service-and-events/events/
 1310753/
END:VEVENT
END:VCALENDAR
