BEGIN:VCALENDAR
VERSION:2.0
PRODID:-//achurchnearyou.com//eventfeed//EN
CALSCALE:GREGORIAN
METHOD:PUBLISH
X-WR-TIMEZONE:UTC
BEGIN:VEVENT
SUMMARY:Good Friday Devotions at the Cross
DTSTART:20260403T130000Z
DTEND:20260403T140000Z
DTSTAMP:20260422T113755Z
UID:12885252026-04-03 13:00:00+00:00achurchnearyou
CATEGORIES:
DESCRIPTION:A service of reflection
GEO:-1.124149;53.939713
LOCATION:St James the Deacon Parish Church\, Acomb Moor
URL:https://www.achurchnearyou.com/church/18979/service-and-events/events/
 1288525/
END:VEVENT
END:VCALENDAR
