BEGIN:VCALENDAR
VERSION:2.0
PRODID:-//achurchnearyou.com//eventfeed//EN
CALSCALE:GREGORIAN
METHOD:PUBLISH
X-WR-TIMEZONE:UTC
BEGIN:VEVENT
SUMMARY:Festal Eucharist for Easter Day
DTSTART:20260405T090000Z
DTEND:20260405T100000Z
DTSTAMP:20260422T113738Z
UID:12885282026-04-05 09:00:00+00:00achurchnearyou
CATEGORIES:
DESCRIPTION:Join us as we celebrate that Christ is risen!
GEO:-1.124149;53.939713
LOCATION:St James the Deacon Parish Church\, Acomb Moor
URL:https://www.achurchnearyou.com/church/18979/service-and-events/events/
 1288528/
END:VEVENT
END:VCALENDAR
