BEGIN:VCALENDAR
VERSION:2.0
PRODID:-//achurchnearyou.com//eventfeed//EN
CALSCALE:GREGORIAN
METHOD:PUBLISH
X-WR-TIMEZONE:UTC
BEGIN:VEVENT
SUMMARY:Holy Communion
DTSTART:20250105T111500Z
DTEND:20250105T121500Z
DTSTAMP:20260419T191405Z
UID:11389522025-01-05 11:15:00+00:00achurchnearyou
CATEGORIES:
DESCRIPTION:A service where we meet to pray and worship. Everyone is welco
 me
GEO:-0.767696;54.016964
LOCATION:All Saints
URL:https://www.achurchnearyou.com/church/18993/service-and-events/events/
 1138952/
END:VEVENT
END:VCALENDAR
