BEGIN:VCALENDAR
VERSION:2.0
PRODID:-//achurchnearyou.com//eventfeed//EN
CALSCALE:GREGORIAN
METHOD:PUBLISH
X-WR-TIMEZONE:UTC
BEGIN:VEVENT
SUMMARY:Launde Online Church Worship Together 11 am
DTSTART;TZID=Europe/London:20260405T110000
DTEND;TZID=Europe/London:20260405T114500
DTSTAMP:20260421T211744Z
UID:10775241775383200.0achurchnearyou
CATEGORIES:
DESCRIPTION:Join us for a worship service on Zoom\, with prayers\, music\,
  Bible reading and reflection.\nFurther details can be found at https://la
 unde-minster-community.webador.co.uk/zoom-services.
LOCATION:On Zoom
URL:https://www.achurchnearyou.com/church/3497/service-and-events/events/1
 077524/
END:VEVENT
BEGIN:VEVENT
SUMMARY:Launde Online Church Worship Together 11 am
DTSTART;TZID=Europe/London:20260412T110000
DTEND;TZID=Europe/London:20260412T114500
DTSTAMP:20260421T211744Z
UID:10775241775988000.0achurchnearyou
CATEGORIES:
DESCRIPTION:Join us for a worship service on Zoom\, with prayers\, music\,
  Bible reading and reflection.\nFurther details can be found at https://la
 unde-minster-community.webador.co.uk/zoom-services.
LOCATION:On Zoom
URL:https://www.achurchnearyou.com/church/3497/service-and-events/events/1
 077524/
END:VEVENT
BEGIN:VEVENT
SUMMARY:Launde Online Church Worship Together 11 am
DTSTART;TZID=Europe/London:20260419T110000
DTEND;TZID=Europe/London:20260419T114500
DTSTAMP:20260421T211744Z
UID:10775241776592800.0achurchnearyou
CATEGORIES:
DESCRIPTION:Join us for a worship service on Zoom\, with prayers\, music\,
  Bible reading and reflection.\nFurther details can be found at https://la
 unde-minster-community.webador.co.uk/zoom-services.
LOCATION:On Zoom
URL:https://www.achurchnearyou.com/church/3497/service-and-events/events/1
 077524/
END:VEVENT
BEGIN:VEVENT
SUMMARY:Launde Online Church Worship Together 11 am
DTSTART;TZID=Europe/London:20260426T110000
DTEND;TZID=Europe/London:20260426T114500
DTSTAMP:20260421T211744Z
UID:10775241777197600.0achurchnearyou
CATEGORIES:
DESCRIPTION:Join us for a worship service on Zoom\, with prayers\, music\,
  Bible reading and reflection.\nFurther details can be found at https://la
 unde-minster-community.webador.co.uk/zoom-services.
LOCATION:On Zoom
URL:https://www.achurchnearyou.com/church/3497/service-and-events/events/1
 077524/
END:VEVENT
BEGIN:VEVENT
SUMMARY:Launde Online Church Worship Together 11 am
DTSTART;TZID=Europe/London:20260503T110000
DTEND;TZID=Europe/London:20260503T114500
DTSTAMP:20260421T211744Z
UID:10775241777802400.0achurchnearyou
CATEGORIES:
DESCRIPTION:Join us for a worship service on Zoom\, with prayers\, music\,
  Bible reading and reflection.\nFurther details can be found at https://la
 unde-minster-community.webador.co.uk/zoom-services.
LOCATION:On Zoom
URL:https://www.achurchnearyou.com/church/3497/service-and-events/events/1
 077524/
END:VEVENT
BEGIN:VEVENT
SUMMARY:Launde Online Church Worship Together 11 am
DTSTART;TZID=Europe/London:20260510T110000
DTEND;TZID=Europe/London:20260510T114500
DTSTAMP:20260421T211744Z
UID:10775241778407200.0achurchnearyou
CATEGORIES:
DESCRIPTION:Join us for a worship service on Zoom\, with prayers\, music\,
  Bible reading and reflection.\nFurther details can be found at https://la
 unde-minster-community.webador.co.uk/zoom-services.
LOCATION:On Zoom
URL:https://www.achurchnearyou.com/church/3497/service-and-events/events/1
 077524/
END:VEVENT
BEGIN:VEVENT
SUMMARY:Launde Online Church Worship Together 11 am
DTSTART;TZID=Europe/London:20260517T110000
DTEND;TZID=Europe/London:20260517T114500
DTSTAMP:20260421T211744Z
UID:10775241779012000.0achurchnearyou
CATEGORIES:
DESCRIPTION:Join us for a worship service on Zoom\, with prayers\, music\,
  Bible reading and reflection.\nFurther details can be found at https://la
 unde-minster-community.webador.co.uk/zoom-services.
LOCATION:On Zoom
URL:https://www.achurchnearyou.com/church/3497/service-and-events/events/1
 077524/
END:VEVENT
BEGIN:VEVENT
SUMMARY:Launde Online Church Worship Together 11 am
DTSTART;TZID=Europe/London:20260524T110000
DTEND;TZID=Europe/London:20260524T114500
DTSTAMP:20260421T211744Z
UID:10775241779616800.0achurchnearyou
CATEGORIES:
DESCRIPTION:Join us for a worship service on Zoom\, with prayers\, music\,
  Bible reading and reflection.\nFurther details can be found at https://la
 unde-minster-community.webador.co.uk/zoom-services.
LOCATION:On Zoom
URL:https://www.achurchnearyou.com/church/3497/service-and-events/events/1
 077524/
END:VEVENT
BEGIN:VEVENT
SUMMARY:Launde Online Church Worship Together 11 am
DTSTART;TZID=Europe/London:20260531T110000
DTEND;TZID=Europe/London:20260531T114500
DTSTAMP:20260421T211744Z
UID:10775241780221600.0achurchnearyou
CATEGORIES:
DESCRIPTION:Join us for a worship service on Zoom\, with prayers\, music\,
  Bible reading and reflection.\nFurther details can be found at https://la
 unde-minster-community.webador.co.uk/zoom-services.
LOCATION:On Zoom
URL:https://www.achurchnearyou.com/church/3497/service-and-events/events/1
 077524/
END:VEVENT
END:VCALENDAR
