BEGIN:VCALENDAR
VERSION:2.0
PRODID:-//achurchnearyou.com//eventfeed//EN
CALSCALE:GREGORIAN
METHOD:PUBLISH
X-WR-TIMEZONE:UTC
BEGIN:VEVENT
SUMMARY:Holy Communion
DTSTART;TZID=Europe/London:20260403T093000
DTEND;TZID=Europe/London:20260403T100000
DTSTAMP:20260423T071327Z
UID:4677151775205000.0achurchnearyou
CATEGORIES:
DESCRIPTION:A regular-ish Friday service of Holy Communion\, which misses 
 the odd week or two\, so keep watching this space!
GEO:-0.778484;53.870774
LOCATION:Saint Everilda's
URL:https://www.achurchnearyou.com/church/19002/service-and-events/events/
 467715/
END:VEVENT
BEGIN:VEVENT
SUMMARY:Holy Communion
DTSTART;TZID=Europe/London:20260410T093000
DTEND;TZID=Europe/London:20260410T100000
DTSTAMP:20260423T071327Z
UID:4677151775809800.0achurchnearyou
CATEGORIES:
DESCRIPTION:A regular-ish Friday service of Holy Communion\, which misses 
 the odd week or two\, so keep watching this space!
GEO:-0.778484;53.870774
LOCATION:Saint Everilda's
URL:https://www.achurchnearyou.com/church/19002/service-and-events/events/
 467715/
END:VEVENT
BEGIN:VEVENT
SUMMARY:Holy Communion
DTSTART;TZID=Europe/London:20260412T091500
DTEND;TZID=Europe/London:20260412T100000
DTSTAMP:20260423T071327Z
UID:6417861775981700.0achurchnearyou
CATEGORIES:
DESCRIPTION:On the 2nd and 4th Sundays of each month Holy Communion is cel
 ebrated. We are accompanied by the beautiful tones of our excellent small 
 organ on at least one of the two Sundays.
GEO:-0.778484;53.870774
LOCATION:Saint Everilda's
URL:https://www.achurchnearyou.com/church/19002/service-and-events/events/
 641786/
END:VEVENT
BEGIN:VEVENT
SUMMARY:Holy Communion
DTSTART;TZID=Europe/London:20260417T093000
DTEND;TZID=Europe/London:20260417T100000
DTSTAMP:20260423T071327Z
UID:4677151776414600.0achurchnearyou
CATEGORIES:
DESCRIPTION:A regular-ish Friday service of Holy Communion\, which misses 
 the odd week or two\, so keep watching this space!
GEO:-0.778484;53.870774
LOCATION:Saint Everilda's
URL:https://www.achurchnearyou.com/church/19002/service-and-events/events/
 467715/
END:VEVENT
BEGIN:VEVENT
SUMMARY:Holy Communion
DTSTART;TZID=Europe/London:20260424T093000
DTEND;TZID=Europe/London:20260424T100000
DTSTAMP:20260423T071327Z
UID:4677151777019400.0achurchnearyou
CATEGORIES:
DESCRIPTION:A regular-ish Friday service of Holy Communion\, which misses 
 the odd week or two\, so keep watching this space!
GEO:-0.778484;53.870774
LOCATION:Saint Everilda's
URL:https://www.achurchnearyou.com/church/19002/service-and-events/events/
 467715/
END:VEVENT
BEGIN:VEVENT
SUMMARY:Holy Communion
DTSTART;TZID=Europe/London:20260426T091500
DTEND;TZID=Europe/London:20260426T100000
DTSTAMP:20260423T071327Z
UID:6417861777191300.0achurchnearyou
CATEGORIES:
DESCRIPTION:On the 2nd and 4th Sundays of each month Holy Communion is cel
 ebrated. We are accompanied by the beautiful tones of our excellent small 
 organ on at least one of the two Sundays.
GEO:-0.778484;53.870774
LOCATION:Saint Everilda's
URL:https://www.achurchnearyou.com/church/19002/service-and-events/events/
 641786/
END:VEVENT
BEGIN:VEVENT
SUMMARY:Holy Communion
DTSTART;TZID=Europe/London:20260501T093000
DTEND;TZID=Europe/London:20260501T100000
DTSTAMP:20260423T071327Z
UID:4677151777624200.0achurchnearyou
CATEGORIES:
DESCRIPTION:A regular-ish Friday service of Holy Communion\, which misses 
 the odd week or two\, so keep watching this space!
GEO:-0.778484;53.870774
LOCATION:Saint Everilda's
URL:https://www.achurchnearyou.com/church/19002/service-and-events/events/
 467715/
END:VEVENT
BEGIN:VEVENT
SUMMARY:Holy Communion
DTSTART;TZID=Europe/London:20260508T093000
DTEND;TZID=Europe/London:20260508T100000
DTSTAMP:20260423T071327Z
UID:4677151778229000.0achurchnearyou
CATEGORIES:
DESCRIPTION:A regular-ish Friday service of Holy Communion\, which misses 
 the odd week or two\, so keep watching this space!
GEO:-0.778484;53.870774
LOCATION:Saint Everilda's
URL:https://www.achurchnearyou.com/church/19002/service-and-events/events/
 467715/
END:VEVENT
BEGIN:VEVENT
SUMMARY:Holy Communion
DTSTART;TZID=Europe/London:20260510T091500
DTEND;TZID=Europe/London:20260510T100000
DTSTAMP:20260423T071327Z
UID:6417861778400900.0achurchnearyou
CATEGORIES:
DESCRIPTION:On the 2nd and 4th Sundays of each month Holy Communion is cel
 ebrated. We are accompanied by the beautiful tones of our excellent small 
 organ on at least one of the two Sundays.
GEO:-0.778484;53.870774
LOCATION:Saint Everilda's
URL:https://www.achurchnearyou.com/church/19002/service-and-events/events/
 641786/
END:VEVENT
BEGIN:VEVENT
SUMMARY:Holy Communion
DTSTART;TZID=Europe/London:20260515T093000
DTEND;TZID=Europe/London:20260515T100000
DTSTAMP:20260423T071327Z
UID:4677151778833800.0achurchnearyou
CATEGORIES:
DESCRIPTION:A regular-ish Friday service of Holy Communion\, which misses 
 the odd week or two\, so keep watching this space!
GEO:-0.778484;53.870774
LOCATION:Saint Everilda's
URL:https://www.achurchnearyou.com/church/19002/service-and-events/events/
 467715/
END:VEVENT
BEGIN:VEVENT
SUMMARY:Holy Communion
DTSTART;TZID=Europe/London:20260522T093000
DTEND;TZID=Europe/London:20260522T100000
DTSTAMP:20260423T071327Z
UID:4677151779438600.0achurchnearyou
CATEGORIES:
DESCRIPTION:A regular-ish Friday service of Holy Communion\, which misses 
 the odd week or two\, so keep watching this space!
GEO:-0.778484;53.870774
LOCATION:Saint Everilda's
URL:https://www.achurchnearyou.com/church/19002/service-and-events/events/
 467715/
END:VEVENT
BEGIN:VEVENT
SUMMARY:Holy Communion
DTSTART;TZID=Europe/London:20260524T091500
DTEND;TZID=Europe/London:20260524T100000
DTSTAMP:20260423T071327Z
UID:6417861779610500.0achurchnearyou
CATEGORIES:
DESCRIPTION:On the 2nd and 4th Sundays of each month Holy Communion is cel
 ebrated. We are accompanied by the beautiful tones of our excellent small 
 organ on at least one of the two Sundays.
GEO:-0.778484;53.870774
LOCATION:Saint Everilda's
URL:https://www.achurchnearyou.com/church/19002/service-and-events/events/
 641786/
END:VEVENT
BEGIN:VEVENT
SUMMARY:Holy Communion
DTSTART;TZID=Europe/London:20260529T093000
DTEND;TZID=Europe/London:20260529T100000
DTSTAMP:20260423T071327Z
UID:4677151780043400.0achurchnearyou
CATEGORIES:
DESCRIPTION:A regular-ish Friday service of Holy Communion\, which misses 
 the odd week or two\, so keep watching this space!
GEO:-0.778484;53.870774
LOCATION:Saint Everilda's
URL:https://www.achurchnearyou.com/church/19002/service-and-events/events/
 467715/
END:VEVENT
BEGIN:VEVENT
SUMMARY:Holy Communion
DTSTART;TZID=Europe/London:20260605T093000
DTEND;TZID=Europe/London:20260605T100000
DTSTAMP:20260423T071327Z
UID:4677151780648200.0achurchnearyou
CATEGORIES:
DESCRIPTION:A regular-ish Friday service of Holy Communion\, which misses 
 the odd week or two\, so keep watching this space!
GEO:-0.778484;53.870774
LOCATION:Saint Everilda's
URL:https://www.achurchnearyou.com/church/19002/service-and-events/events/
 467715/
END:VEVENT
BEGIN:VEVENT
SUMMARY:Holy Communion
DTSTART;TZID=Europe/London:20260612T093000
DTEND;TZID=Europe/London:20260612T100000
DTSTAMP:20260423T071327Z
UID:4677151781253000.0achurchnearyou
CATEGORIES:
DESCRIPTION:A regular-ish Friday service of Holy Communion\, which misses 
 the odd week or two\, so keep watching this space!
GEO:-0.778484;53.870774
LOCATION:Saint Everilda's
URL:https://www.achurchnearyou.com/church/19002/service-and-events/events/
 467715/
END:VEVENT
BEGIN:VEVENT
SUMMARY:Holy Communion
DTSTART;TZID=Europe/London:20260614T091500
DTEND;TZID=Europe/London:20260614T100000
DTSTAMP:20260423T071327Z
UID:6417861781424900.0achurchnearyou
CATEGORIES:
DESCRIPTION:On the 2nd and 4th Sundays of each month Holy Communion is cel
 ebrated. We are accompanied by the beautiful tones of our excellent small 
 organ on at least one of the two Sundays.
GEO:-0.778484;53.870774
LOCATION:Saint Everilda's
URL:https://www.achurchnearyou.com/church/19002/service-and-events/events/
 641786/
END:VEVENT
BEGIN:VEVENT
SUMMARY:Holy Communion
DTSTART;TZID=Europe/London:20260619T093000
DTEND;TZID=Europe/London:20260619T100000
DTSTAMP:20260423T071327Z
UID:4677151781857800.0achurchnearyou
CATEGORIES:
DESCRIPTION:A regular-ish Friday service of Holy Communion\, which misses 
 the odd week or two\, so keep watching this space!
GEO:-0.778484;53.870774
LOCATION:Saint Everilda's
URL:https://www.achurchnearyou.com/church/19002/service-and-events/events/
 467715/
END:VEVENT
BEGIN:VEVENT
SUMMARY:Holy Communion
DTSTART;TZID=Europe/London:20260626T093000
DTEND;TZID=Europe/London:20260626T100000
DTSTAMP:20260423T071327Z
UID:4677151782462600.0achurchnearyou
CATEGORIES:
DESCRIPTION:A regular-ish Friday service of Holy Communion\, which misses 
 the odd week or two\, so keep watching this space!
GEO:-0.778484;53.870774
LOCATION:Saint Everilda's
URL:https://www.achurchnearyou.com/church/19002/service-and-events/events/
 467715/
END:VEVENT
BEGIN:VEVENT
SUMMARY:Holy Communion
DTSTART;TZID=Europe/London:20260628T091500
DTEND;TZID=Europe/London:20260628T100000
DTSTAMP:20260423T071327Z
UID:6417861782634500.0achurchnearyou
CATEGORIES:
DESCRIPTION:On the 2nd and 4th Sundays of each month Holy Communion is cel
 ebrated. We are accompanied by the beautiful tones of our excellent small 
 organ on at least one of the two Sundays.
GEO:-0.778484;53.870774
LOCATION:Saint Everilda's
URL:https://www.achurchnearyou.com/church/19002/service-and-events/events/
 641786/
END:VEVENT
BEGIN:VEVENT
SUMMARY:Holy Communion
DTSTART;TZID=Europe/London:20260703T093000
DTEND;TZID=Europe/London:20260703T100000
DTSTAMP:20260423T071327Z
UID:4677151783067400.0achurchnearyou
CATEGORIES:
DESCRIPTION:A regular-ish Friday service of Holy Communion\, which misses 
 the odd week or two\, so keep watching this space!
GEO:-0.778484;53.870774
LOCATION:Saint Everilda's
URL:https://www.achurchnearyou.com/church/19002/service-and-events/events/
 467715/
END:VEVENT
BEGIN:VEVENT
SUMMARY:Holy Communion
DTSTART;TZID=Europe/London:20260710T093000
DTEND;TZID=Europe/London:20260710T100000
DTSTAMP:20260423T071327Z
UID:4677151783672200.0achurchnearyou
CATEGORIES:
DESCRIPTION:A regular-ish Friday service of Holy Communion\, which misses 
 the odd week or two\, so keep watching this space!
GEO:-0.778484;53.870774
LOCATION:Saint Everilda's
URL:https://www.achurchnearyou.com/church/19002/service-and-events/events/
 467715/
END:VEVENT
BEGIN:VEVENT
SUMMARY:Holy Communion
DTSTART;TZID=Europe/London:20260712T091500
DTEND;TZID=Europe/London:20260712T100000
DTSTAMP:20260423T071327Z
UID:6417861783844100.0achurchnearyou
CATEGORIES:
DESCRIPTION:On the 2nd and 4th Sundays of each month Holy Communion is cel
 ebrated. We are accompanied by the beautiful tones of our excellent small 
 organ on at least one of the two Sundays.
GEO:-0.778484;53.870774
LOCATION:Saint Everilda's
URL:https://www.achurchnearyou.com/church/19002/service-and-events/events/
 641786/
END:VEVENT
BEGIN:VEVENT
SUMMARY:Holy Communion
DTSTART;TZID=Europe/London:20260717T093000
DTEND;TZID=Europe/London:20260717T100000
DTSTAMP:20260423T071327Z
UID:4677151784277000.0achurchnearyou
CATEGORIES:
DESCRIPTION:A regular-ish Friday service of Holy Communion\, which misses 
 the odd week or two\, so keep watching this space!
GEO:-0.778484;53.870774
LOCATION:Saint Everilda's
URL:https://www.achurchnearyou.com/church/19002/service-and-events/events/
 467715/
END:VEVENT
BEGIN:VEVENT
SUMMARY:Holy Communion
DTSTART;TZID=Europe/London:20260724T093000
DTEND;TZID=Europe/London:20260724T100000
DTSTAMP:20260423T071327Z
UID:4677151784881800.0achurchnearyou
CATEGORIES:
DESCRIPTION:A regular-ish Friday service of Holy Communion\, which misses 
 the odd week or two\, so keep watching this space!
GEO:-0.778484;53.870774
LOCATION:Saint Everilda's
URL:https://www.achurchnearyou.com/church/19002/service-and-events/events/
 467715/
END:VEVENT
BEGIN:VEVENT
SUMMARY:Holy Communion
DTSTART;TZID=Europe/London:20260726T091500
DTEND;TZID=Europe/London:20260726T100000
DTSTAMP:20260423T071327Z
UID:6417861785053700.0achurchnearyou
CATEGORIES:
DESCRIPTION:On the 2nd and 4th Sundays of each month Holy Communion is cel
 ebrated. We are accompanied by the beautiful tones of our excellent small 
 organ on at least one of the two Sundays.
GEO:-0.778484;53.870774
LOCATION:Saint Everilda's
URL:https://www.achurchnearyou.com/church/19002/service-and-events/events/
 641786/
END:VEVENT
BEGIN:VEVENT
SUMMARY:Holy Communion
DTSTART;TZID=Europe/London:20260731T093000
DTEND;TZID=Europe/London:20260731T100000
DTSTAMP:20260423T071327Z
UID:4677151785486600.0achurchnearyou
CATEGORIES:
DESCRIPTION:A regular-ish Friday service of Holy Communion\, which misses 
 the odd week or two\, so keep watching this space!
GEO:-0.778484;53.870774
LOCATION:Saint Everilda's
URL:https://www.achurchnearyou.com/church/19002/service-and-events/events/
 467715/
END:VEVENT
BEGIN:VEVENT
SUMMARY:Holy Communion
DTSTART;TZID=Europe/London:20260807T093000
DTEND;TZID=Europe/London:20260807T100000
DTSTAMP:20260423T071327Z
UID:4677151786091400.0achurchnearyou
CATEGORIES:
DESCRIPTION:A regular-ish Friday service of Holy Communion\, which misses 
 the odd week or two\, so keep watching this space!
GEO:-0.778484;53.870774
LOCATION:Saint Everilda's
URL:https://www.achurchnearyou.com/church/19002/service-and-events/events/
 467715/
END:VEVENT
BEGIN:VEVENT
SUMMARY:Holy Communion
DTSTART;TZID=Europe/London:20260809T091500
DTEND;TZID=Europe/London:20260809T100000
DTSTAMP:20260423T071327Z
UID:6417861786263300.0achurchnearyou
CATEGORIES:
DESCRIPTION:On the 2nd and 4th Sundays of each month Holy Communion is cel
 ebrated. We are accompanied by the beautiful tones of our excellent small 
 organ on at least one of the two Sundays.
GEO:-0.778484;53.870774
LOCATION:Saint Everilda's
URL:https://www.achurchnearyou.com/church/19002/service-and-events/events/
 641786/
END:VEVENT
BEGIN:VEVENT
SUMMARY:Holy Communion
DTSTART;TZID=Europe/London:20260814T093000
DTEND;TZID=Europe/London:20260814T100000
DTSTAMP:20260423T071327Z
UID:4677151786696200.0achurchnearyou
CATEGORIES:
DESCRIPTION:A regular-ish Friday service of Holy Communion\, which misses 
 the odd week or two\, so keep watching this space!
GEO:-0.778484;53.870774
LOCATION:Saint Everilda's
URL:https://www.achurchnearyou.com/church/19002/service-and-events/events/
 467715/
END:VEVENT
BEGIN:VEVENT
SUMMARY:Holy Communion
DTSTART;TZID=Europe/London:20260821T093000
DTEND;TZID=Europe/London:20260821T100000
DTSTAMP:20260423T071327Z
UID:4677151787301000.0achurchnearyou
CATEGORIES:
DESCRIPTION:A regular-ish Friday service of Holy Communion\, which misses 
 the odd week or two\, so keep watching this space!
GEO:-0.778484;53.870774
LOCATION:Saint Everilda's
URL:https://www.achurchnearyou.com/church/19002/service-and-events/events/
 467715/
END:VEVENT
BEGIN:VEVENT
SUMMARY:Holy Communion
DTSTART;TZID=Europe/London:20260823T091500
DTEND;TZID=Europe/London:20260823T100000
DTSTAMP:20260423T071327Z
UID:6417861787472900.0achurchnearyou
CATEGORIES:
DESCRIPTION:On the 2nd and 4th Sundays of each month Holy Communion is cel
 ebrated. We are accompanied by the beautiful tones of our excellent small 
 organ on at least one of the two Sundays.
GEO:-0.778484;53.870774
LOCATION:Saint Everilda's
URL:https://www.achurchnearyou.com/church/19002/service-and-events/events/
 641786/
END:VEVENT
BEGIN:VEVENT
SUMMARY:Holy Communion
DTSTART;TZID=Europe/London:20260828T093000
DTEND;TZID=Europe/London:20260828T100000
DTSTAMP:20260423T071327Z
UID:4677151787905800.0achurchnearyou
CATEGORIES:
DESCRIPTION:A regular-ish Friday service of Holy Communion\, which misses 
 the odd week or two\, so keep watching this space!
GEO:-0.778484;53.870774
LOCATION:Saint Everilda's
URL:https://www.achurchnearyou.com/church/19002/service-and-events/events/
 467715/
END:VEVENT
BEGIN:VEVENT
SUMMARY:Holy Communion
DTSTART;TZID=Europe/London:20260904T093000
DTEND;TZID=Europe/London:20260904T100000
DTSTAMP:20260423T071327Z
UID:4677151788510600.0achurchnearyou
CATEGORIES:
DESCRIPTION:A regular-ish Friday service of Holy Communion\, which misses 
 the odd week or two\, so keep watching this space!
GEO:-0.778484;53.870774
LOCATION:Saint Everilda's
URL:https://www.achurchnearyou.com/church/19002/service-and-events/events/
 467715/
END:VEVENT
BEGIN:VEVENT
SUMMARY:Holy Communion
DTSTART;TZID=Europe/London:20260911T093000
DTEND;TZID=Europe/London:20260911T100000
DTSTAMP:20260423T071327Z
UID:4677151789115400.0achurchnearyou
CATEGORIES:
DESCRIPTION:A regular-ish Friday service of Holy Communion\, which misses 
 the odd week or two\, so keep watching this space!
GEO:-0.778484;53.870774
LOCATION:Saint Everilda's
URL:https://www.achurchnearyou.com/church/19002/service-and-events/events/
 467715/
END:VEVENT
BEGIN:VEVENT
SUMMARY:Holy Communion
DTSTART;TZID=Europe/London:20260913T091500
DTEND;TZID=Europe/London:20260913T100000
DTSTAMP:20260423T071327Z
UID:6417861789287300.0achurchnearyou
CATEGORIES:
DESCRIPTION:On the 2nd and 4th Sundays of each month Holy Communion is cel
 ebrated. We are accompanied by the beautiful tones of our excellent small 
 organ on at least one of the two Sundays.
GEO:-0.778484;53.870774
LOCATION:Saint Everilda's
URL:https://www.achurchnearyou.com/church/19002/service-and-events/events/
 641786/
END:VEVENT
BEGIN:VEVENT
SUMMARY:Holy Communion
DTSTART;TZID=Europe/London:20260918T093000
DTEND;TZID=Europe/London:20260918T100000
DTSTAMP:20260423T071327Z
UID:4677151789720200.0achurchnearyou
CATEGORIES:
DESCRIPTION:A regular-ish Friday service of Holy Communion\, which misses 
 the odd week or two\, so keep watching this space!
GEO:-0.778484;53.870774
LOCATION:Saint Everilda's
URL:https://www.achurchnearyou.com/church/19002/service-and-events/events/
 467715/
END:VEVENT
BEGIN:VEVENT
SUMMARY:Holy Communion
DTSTART;TZID=Europe/London:20260925T093000
DTEND;TZID=Europe/London:20260925T100000
DTSTAMP:20260423T071327Z
UID:4677151790325000.0achurchnearyou
CATEGORIES:
DESCRIPTION:A regular-ish Friday service of Holy Communion\, which misses 
 the odd week or two\, so keep watching this space!
GEO:-0.778484;53.870774
LOCATION:Saint Everilda's
URL:https://www.achurchnearyou.com/church/19002/service-and-events/events/
 467715/
END:VEVENT
BEGIN:VEVENT
SUMMARY:Holy Communion
DTSTART;TZID=Europe/London:20260927T091500
DTEND;TZID=Europe/London:20260927T100000
DTSTAMP:20260423T071327Z
UID:6417861790496900.0achurchnearyou
CATEGORIES:
DESCRIPTION:On the 2nd and 4th Sundays of each month Holy Communion is cel
 ebrated. We are accompanied by the beautiful tones of our excellent small 
 organ on at least one of the two Sundays.
GEO:-0.778484;53.870774
LOCATION:Saint Everilda's
URL:https://www.achurchnearyou.com/church/19002/service-and-events/events/
 641786/
END:VEVENT
END:VCALENDAR
