BEGIN:VCALENDAR
VERSION:2.0
PRODID:-//achurchnearyou.com//eventfeed//EN
CALSCALE:GREGORIAN
METHOD:PUBLISH
X-WR-TIMEZONE:UTC
BEGIN:VEVENT
SUMMARY:Interfaith Meeting
DTSTART:20250109T190000Z
DTEND:20250109T203000Z
DTSTAMP:20260425T161638Z
UID:11457822025-01-09 19:00:00+00:00achurchnearyou
CATEGORIES:
DESCRIPTION:Do please come and join us to explore how other religions and 
 faiths look at the world.\nIf you have any queries or would like to know m
 ore\, please contact Margaret Roberts (01964 552896)\, \nor Brian Fellows 
 (01964 550410)
LOCATION:The home of Brian Fellows
URL:https://www.achurchnearyou.com/church/19063/service-and-events/events/
 1145782/
END:VEVENT
END:VCALENDAR
