BEGIN:VCALENDAR
VERSION:2.0
PRODID:-//achurchnearyou.com//eventfeed//EN
CALSCALE:GREGORIAN
METHOD:PUBLISH
X-WR-TIMEZONE:UTC
BEGIN:VEVENT
SUMMARY:Holy Communion
DTSTART:20260208T093000Z
DTEND:20260208T103000Z
DTSTAMP:20260423T235721Z
UID:11665562026-02-08 09:30:00+00:00achurchnearyou
CATEGORIES:
DESCRIPTION:This is an additional Communion Service which moves around the
  Benefice on the 2nd Sunday of the Month.
GEO:-0.483562;53.908255
LOCATION:St Mary's Church\, Lockington
URL:https://www.achurchnearyou.com/church/19063/service-and-events/events/
 1166556/
END:VEVENT
END:VCALENDAR
