BEGIN:VCALENDAR
VERSION:2.0
PRODID:-//achurchnearyou.com//eventfeed//EN
CALSCALE:GREGORIAN
METHOD:PUBLISH
X-WR-TIMEZONE:UTC
BEGIN:VEVENT
SUMMARY:Interfaith Meeting
DTSTART:20260309T190000Z
DTEND:20260309T203000Z
DTSTAMP:20260419T214027Z
UID:12947582026-03-09 19:00:00+00:00achurchnearyou
CATEGORIES:
DESCRIPTION:Do please come and join us to explore how other religions and 
 faiths look at the world.\nIf you have any queries or would like to know m
 ore\, please contact Margaret Roberts (01964 552896)\, \nor Brian Fellowes
  (01964 550410)\nThe next meeting on 9 March will be John Fielding.  \nHi
 s subject will be “The Sacred Grove : Stepping into Modern Druidry”.
LOCATION:Home of Brian Fellowes
URL:https://www.achurchnearyou.com/church/19066/service-and-events/events/
 1294758/
END:VEVENT
END:VCALENDAR
