BEGIN:VCALENDAR
VERSION:2.0
PRODID:-//achurchnearyou.com//eventfeed//EN
CALSCALE:GREGORIAN
METHOD:PUBLISH
X-WR-TIMEZONE:UTC
BEGIN:VEVENT
SUMMARY:Holy Communion and Imposition of Ashes
DTSTART:20250305T100000Z
DTEND:20250305T104500Z
DTSTAMP:20260424T215152Z
UID:11608502025-03-05 10:00:00+00:00achurchnearyou
CATEGORIES:
DESCRIPTION:Marking the start of the season of Lent
GEO:-0.322552;54.093681
LOCATION:All Saints\, Rudston
URL:https://www.achurchnearyou.com/church/19087/service-and-events/events/
 1160850/
END:VEVENT
END:VCALENDAR
