BEGIN:VCALENDAR
VERSION:2.0
PRODID:-//achurchnearyou.com//eventfeed//EN
CALSCALE:GREGORIAN
METHOD:PUBLISH
X-WR-TIMEZONE:UTC
BEGIN:VEVENT
SUMMARY:Holy Communion for Pentecost
DTSTART:20250608T083000Z
DTEND:20250608T091500Z
DTSTAMP:20260424T142154Z
UID:12041022025-06-08 08:30:00+00:00achurchnearyou
CATEGORIES:
DESCRIPTION:Come and celebrate Pentecost - the birthday of the Church - th
 e outpouring of the Holy Spirit on all God's people
GEO:-0.322552;54.093681
LOCATION:All Saints\, Rudston
URL:https://www.achurchnearyou.com/church/19087/service-and-events/events/
 1204102/
END:VEVENT
END:VCALENDAR
