BEGIN:VCALENDAR
VERSION:2.0
PRODID:-//achurchnearyou.com//eventfeed//EN
CALSCALE:GREGORIAN
METHOD:PUBLISH
X-WR-TIMEZONE:UTC
BEGIN:VEVENT
SUMMARY:Act of Remembrance
DTSTART:20251109T105000Z
DTEND:20251109T110500Z
DTSTAMP:20260424T040220Z
UID:12438542025-11-09 10:50:00+00:00achurchnearyou
CATEGORIES:
DESCRIPTION:Meet at the War Memorial to remember those who have given thei
 r life in the service of their Country
LOCATION:War Memorial
URL:https://www.achurchnearyou.com/church/19087/service-and-events/events/
 1243854/
END:VEVENT
END:VCALENDAR
