BEGIN:VCALENDAR
VERSION:2.0
PRODID:-//achurchnearyou.com//eventfeed//EN
CALSCALE:GREGORIAN
METHOD:PUBLISH
X-WR-TIMEZONE:UTC
BEGIN:VEVENT
SUMMARY:A Service of Holy Communion for Christmas Morning
DTSTART:20251225T093000Z
DTEND:20251225T101500Z
DTSTAMP:20260424T040150Z
UID:12438682025-12-25 09:30:00+00:00achurchnearyou
CATEGORIES:
DESCRIPTION:Come and celebrate the birth of our Lord and Saviour
GEO:-0.322552;54.093681
LOCATION:All Saints\, Rudston
URL:https://www.achurchnearyou.com/church/19087/service-and-events/events/
 1243868/
END:VEVENT
END:VCALENDAR
