BEGIN:VCALENDAR
VERSION:2.0
PRODID:-//achurchnearyou.com//eventfeed//EN
CALSCALE:GREGORIAN
METHOD:PUBLISH
X-WR-TIMEZONE:UTC
BEGIN:VEVENT
SUMMARY:Palm Sunday Benefice Holy Communion
DTSTART:20250413T083000Z
DTEND:20250413T091500Z
DTSTAMP:20260422T155143Z
UID:11867022025-04-13 08:30:00+00:00achurchnearyou
CATEGORIES:
DESCRIPTION:We worship and praise God together in our church building.
LOCATION:St Nicholas'\, Wetwang
URL:https://www.achurchnearyou.com/church/19103/service-and-events/events/
 1186702/
END:VEVENT
END:VCALENDAR
