BEGIN:VCALENDAR
VERSION:2.0
PRODID:-//achurchnearyou.com//eventfeed//EN
CALSCALE:GREGORIAN
METHOD:PUBLISH
X-WR-TIMEZONE:UTC
BEGIN:VEVENT
SUMMARY:Compline - Night Prayer
DTSTART:20250817T170000Z
DTEND:20250817T173000Z
DTSTAMP:20260420T084224Z
UID:12174632025-08-17 17:00:00+00:00achurchnearyou
CATEGORIES:
DESCRIPTION:The ancient service of “Compline” or Night Prayer.\nEveryo
 ne is very welcome and warmly invited - whether or not you usually go to C
 hurch services or consider yourself a Christian. You can sit and enjoy the
  music and surroundings.
GEO:-0.666411;54.021937
LOCATION:St Mary's\, Fridaythorpe
URL:https://www.achurchnearyou.com/church/19103/service-and-events/events/
 1217463/
END:VEVENT
END:VCALENDAR
