BEGIN:VCALENDAR
VERSION:2.0
PRODID:-//achurchnearyou.com//eventfeed//EN
CALSCALE:GREGORIAN
METHOD:PUBLISH
X-WR-TIMEZONE:UTC
BEGIN:VEVENT
SUMMARY:Deanery Confirmation Service
DTSTART;TZID=Europe/London:20250914T160000
DTEND;TZID=Europe/London:20250914T170000
DTSTAMP:20260420T064933Z
UID:12231142025-09-14 16:00:00+01:00achurchnearyou
CATEGORIES:
DESCRIPTION:This service will be led by the Bishop of Hull\, The Right Rev
 erend Alison White\, and will be a service of Holy Communion.
LOCATION:St. Martin's Church
URL:https://www.achurchnearyou.com/church/19103/service-and-events/events/
 1223114/
END:VEVENT
END:VCALENDAR
