BEGIN:VCALENDAR
VERSION:2.0
PRODID:-//achurchnearyou.com//eventfeed//EN
CALSCALE:GREGORIAN
METHOD:PUBLISH
X-WR-TIMEZONE:UTC
BEGIN:VEVENT
SUMMARY:Benefice Holy Communion
DTSTART:20251214T093000Z
DTEND:20251214T101500Z
DTSTAMP:20260420T012625Z
UID:12450372025-12-14 09:30:00+00:00achurchnearyou
CATEGORIES:
DESCRIPTION:We worship and praise God together in our church building.
GEO:-0.666411;54.021937
LOCATION:St Mary's\, Fridaythorpe
URL:https://www.achurchnearyou.com/church/19103/service-and-events/events/
 1245037/
END:VEVENT
END:VCALENDAR
