BEGIN:VCALENDAR
VERSION:2.0
PRODID:-//achurchnearyou.com//eventfeed//EN
CALSCALE:GREGORIAN
METHOD:PUBLISH
X-WR-TIMEZONE:UTC
BEGIN:VEVENT
SUMMARY:Maundy Thursday Holy Communion
DTSTART:20260402T180000Z
DTEND:20260402T184500Z
DTSTAMP:20260419T181010Z
UID:13202212026-04-02 18:00:00+00:00achurchnearyou
CATEGORIES:
DESCRIPTION:This service recalls the final words Jesus to his disciples on
  the night he was betrayed. \nA simple service of Communion.
LOCATION:St Mary's\, Thixendale
URL:https://www.achurchnearyou.com/church/19103/service-and-events/events/
 1320221/
END:VEVENT
END:VCALENDAR
