BEGIN:VCALENDAR
VERSION:2.0
PRODID:-//achurchnearyou.com//eventfeed//EN
CALSCALE:GREGORIAN
METHOD:PUBLISH
X-WR-TIMEZONE:UTC
BEGIN:VEVENT
SUMMARY:Morning Prayer
DTSTART;TZID=Europe/London:20260512T090000
DTEND;TZID=Europe/London:20260512T093000
DTSTAMP:20260419T163551Z
UID:7602802026-05-12 09:00:00+01:00achurchnearyou
CATEGORIES:
DESCRIPTION:A short\, spoken service of Morning Prayer.
GEO:-0.666411;54.021937
LOCATION:St Mary's\, Fridaythorpe
URL:https://www.achurchnearyou.com/church/19103/service-and-events/events/
 760280/
END:VEVENT
BEGIN:VEVENT
SUMMARY:Morning Prayer
DTSTART;TZID=Europe/London:20260609T090000
DTEND;TZID=Europe/London:20260609T093000
DTSTAMP:20260419T163551Z
UID:7602802026-06-09 09:00:00+01:00achurchnearyou
CATEGORIES:
DESCRIPTION:A short\, spoken service of Morning Prayer.
GEO:-0.666411;54.021937
LOCATION:St Mary's\, Fridaythorpe
URL:https://www.achurchnearyou.com/church/19103/service-and-events/events/
 760280/
END:VEVENT
BEGIN:VEVENT
SUMMARY:Morning Prayer
DTSTART;TZID=Europe/London:20260714T090000
DTEND;TZID=Europe/London:20260714T093000
DTSTAMP:20260419T163551Z
UID:7602802026-07-14 09:00:00+01:00achurchnearyou
CATEGORIES:
DESCRIPTION:A short\, spoken service of Morning Prayer.
GEO:-0.666411;54.021937
LOCATION:St Mary's\, Fridaythorpe
URL:https://www.achurchnearyou.com/church/19103/service-and-events/events/
 760280/
END:VEVENT
BEGIN:VEVENT
SUMMARY:Morning Prayer
DTSTART;TZID=Europe/London:20260811T090000
DTEND;TZID=Europe/London:20260811T093000
DTSTAMP:20260419T163551Z
UID:7602802026-08-11 09:00:00+01:00achurchnearyou
CATEGORIES:
DESCRIPTION:A short\, spoken service of Morning Prayer.
GEO:-0.666411;54.021937
LOCATION:St Mary's\, Fridaythorpe
URL:https://www.achurchnearyou.com/church/19103/service-and-events/events/
 760280/
END:VEVENT
BEGIN:VEVENT
SUMMARY:Morning Prayer
DTSTART;TZID=Europe/London:20260908T090000
DTEND;TZID=Europe/London:20260908T093000
DTSTAMP:20260419T163551Z
UID:7602802026-09-08 09:00:00+01:00achurchnearyou
CATEGORIES:
DESCRIPTION:A short\, spoken service of Morning Prayer.
GEO:-0.666411;54.021937
LOCATION:St Mary's\, Fridaythorpe
URL:https://www.achurchnearyou.com/church/19103/service-and-events/events/
 760280/
END:VEVENT
BEGIN:VEVENT
SUMMARY:Morning Prayer
DTSTART;TZID=Europe/London:20261013T090000
DTEND;TZID=Europe/London:20261013T093000
DTSTAMP:20260419T163551Z
UID:7602802026-10-13 09:00:00+01:00achurchnearyou
CATEGORIES:
DESCRIPTION:A short\, spoken service of Morning Prayer.
GEO:-0.666411;54.021937
LOCATION:St Mary's\, Fridaythorpe
URL:https://www.achurchnearyou.com/church/19103/service-and-events/events/
 760280/
END:VEVENT
BEGIN:VEVENT
SUMMARY:Morning Prayer
DTSTART;TZID=Europe/London:20261110T090000
DTEND;TZID=Europe/London:20261110T093000
DTSTAMP:20260419T163551Z
UID:7602802026-11-10 09:00:00+00:00achurchnearyou
CATEGORIES:
DESCRIPTION:A short\, spoken service of Morning Prayer.
GEO:-0.666411;54.021937
LOCATION:St Mary's\, Fridaythorpe
URL:https://www.achurchnearyou.com/church/19103/service-and-events/events/
 760280/
END:VEVENT
BEGIN:VEVENT
SUMMARY:Morning Prayer
DTSTART;TZID=Europe/London:20261208T090000
DTEND;TZID=Europe/London:20261208T093000
DTSTAMP:20260419T163551Z
UID:7602802026-12-08 09:00:00+00:00achurchnearyou
CATEGORIES:
DESCRIPTION:A short\, spoken service of Morning Prayer.
GEO:-0.666411;54.021937
LOCATION:St Mary's\, Fridaythorpe
URL:https://www.achurchnearyou.com/church/19103/service-and-events/events/
 760280/
END:VEVENT
BEGIN:VEVENT
SUMMARY:Morning Prayer
DTSTART;TZID=Europe/London:20270112T090000
DTEND;TZID=Europe/London:20270112T093000
DTSTAMP:20260419T163551Z
UID:7602802027-01-12 09:00:00+00:00achurchnearyou
CATEGORIES:
DESCRIPTION:A short\, spoken service of Morning Prayer.
GEO:-0.666411;54.021937
LOCATION:St Mary's\, Fridaythorpe
URL:https://www.achurchnearyou.com/church/19103/service-and-events/events/
 760280/
END:VEVENT
BEGIN:VEVENT
SUMMARY:Morning Prayer
DTSTART;TZID=Europe/London:20270209T090000
DTEND;TZID=Europe/London:20270209T093000
DTSTAMP:20260419T163551Z
UID:7602802027-02-09 09:00:00+00:00achurchnearyou
CATEGORIES:
DESCRIPTION:A short\, spoken service of Morning Prayer.
GEO:-0.666411;54.021937
LOCATION:St Mary's\, Fridaythorpe
URL:https://www.achurchnearyou.com/church/19103/service-and-events/events/
 760280/
END:VEVENT
BEGIN:VEVENT
SUMMARY:Morning Prayer
DTSTART;TZID=Europe/London:20270309T090000
DTEND;TZID=Europe/London:20270309T093000
DTSTAMP:20260419T163551Z
UID:7602802027-03-09 09:00:00+00:00achurchnearyou
CATEGORIES:
DESCRIPTION:A short\, spoken service of Morning Prayer.
GEO:-0.666411;54.021937
LOCATION:St Mary's\, Fridaythorpe
URL:https://www.achurchnearyou.com/church/19103/service-and-events/events/
 760280/
END:VEVENT
BEGIN:VEVENT
SUMMARY:Morning Prayer
DTSTART;TZID=Europe/London:20270413T090000
DTEND;TZID=Europe/London:20270413T093000
DTSTAMP:20260419T163551Z
UID:7602802027-04-13 09:00:00+01:00achurchnearyou
CATEGORIES:
DESCRIPTION:A short\, spoken service of Morning Prayer.
GEO:-0.666411;54.021937
LOCATION:St Mary's\, Fridaythorpe
URL:https://www.achurchnearyou.com/church/19103/service-and-events/events/
 760280/
END:VEVENT
END:VCALENDAR
