BEGIN:VCALENDAR
VERSION:2.0
PRODID:-//achurchnearyou.com//eventfeed//EN
CALSCALE:GREGORIAN
METHOD:PUBLISH
X-WR-TIMEZONE:UTC
BEGIN:VEVENT
SUMMARY:Advent & Shoebox Service (Band)
DTSTART:20251207T104500Z
DTEND:20251207T114500Z
DTSTAMP:20260420T012739Z
UID:12607732025-12-07 10:45:00+00:00achurchnearyou
CATEGORIES:
DESCRIPTION:Advent & Shoebox Service (Band)
GEO:-0.440408;53.966141
LOCATION:St Peter's Church\, Hutton Cranswick
URL:https://www.achurchnearyou.com/church/19107/service-and-events/events/
 1260773/
END:VEVENT
END:VCALENDAR
