BEGIN:VCALENDAR
VERSION:2.0
PRODID:-//achurchnearyou.com//eventfeed//EN
CALSCALE:GREGORIAN
METHOD:PUBLISH
X-WR-TIMEZONE:UTC
BEGIN:VEVENT
SUMMARY:Easter Communion
DTSTART:20260405T170000Z
DTEND:20260405T180000Z
DTSTAMP:20260419T181844Z
UID:13158982026-04-05 17:00:00+00:00achurchnearyou
CATEGORIES:
DESCRIPTION:Easter Day
GEO:-0.444877;53.93364
LOCATION:St Mary
URL:https://www.achurchnearyou.com/church/19119/service-and-events/events/
 1315898/
END:VEVENT
END:VCALENDAR
