BEGIN:VCALENDAR
VERSION:2.0
PRODID:-//achurchnearyou.com//eventfeed//EN
CALSCALE:GREGORIAN
METHOD:PUBLISH
X-WR-TIMEZONE:UTC
BEGIN:VEVENT
SUMMARY:Evensong
DTSTART:20260426T170000Z
DTEND:20260426T180000Z
DTSTAMP:20260419T145249Z
UID:13158992026-04-26 17:00:00+00:00achurchnearyou
CATEGORIES:
DESCRIPTION:-
GEO:-0.444877;53.93364
LOCATION:St Mary
URL:https://www.achurchnearyou.com/church/19119/service-and-events/events/
 1315899/
END:VEVENT
END:VCALENDAR
