BEGIN:VCALENDAR
VERSION:2.0
PRODID:-//achurchnearyou.com//eventfeed//EN
CALSCALE:GREGORIAN
METHOD:PUBLISH
X-WR-TIMEZONE:UTC
BEGIN:VEVENT
SUMMARY:Morning Service
DTSTART;TZID=Europe/London:20260405T093000
DTEND;TZID=Europe/London:20260405T103000
DTSTAMP:20260420T073153Z
UID:12795281775377800.0achurchnearyou
CATEGORIES:
DESCRIPTION:St Mary's Church\, Brandesburton
GEO:-0.297439;53.912921
LOCATION:St Mary
URL:https://www.achurchnearyou.com/church/19129/service-and-events/events/
 1279528/
END:VEVENT
BEGIN:VEVENT
SUMMARY:Morning Service
DTSTART;TZID=Europe/London:20260405T110000
DTEND;TZID=Europe/London:20260405T120000
DTSTAMP:20260420T073153Z
UID:12795201775383200.0achurchnearyou
CATEGORIES:
DESCRIPTION:Holy Trinity Church\, Leven
LOCATION:Holy Trinity
URL:https://www.achurchnearyou.com/church/19129/service-and-events/events/
 1279520/
END:VEVENT
BEGIN:VEVENT
SUMMARY:Morning Service
DTSTART;TZID=Europe/London:20260412T093000
DTEND;TZID=Europe/London:20260412T103000
DTSTAMP:20260420T073153Z
UID:12795281775982600.0achurchnearyou
CATEGORIES:
DESCRIPTION:St Mary's Church\, Brandesburton
GEO:-0.297439;53.912921
LOCATION:St Mary
URL:https://www.achurchnearyou.com/church/19129/service-and-events/events/
 1279528/
END:VEVENT
BEGIN:VEVENT
SUMMARY:Morning Service
DTSTART;TZID=Europe/London:20260412T110000
DTEND;TZID=Europe/London:20260412T120000
DTSTAMP:20260420T073153Z
UID:12795201775988000.0achurchnearyou
CATEGORIES:
DESCRIPTION:Holy Trinity Church\, Leven
LOCATION:Holy Trinity
URL:https://www.achurchnearyou.com/church/19129/service-and-events/events/
 1279520/
END:VEVENT
BEGIN:VEVENT
SUMMARY:Morning Service
DTSTART;TZID=Europe/London:20260419T093000
DTEND;TZID=Europe/London:20260419T103000
DTSTAMP:20260420T073153Z
UID:12795281776587400.0achurchnearyou
CATEGORIES:
DESCRIPTION:St Mary's Church\, Brandesburton
GEO:-0.297439;53.912921
LOCATION:St Mary
URL:https://www.achurchnearyou.com/church/19129/service-and-events/events/
 1279528/
END:VEVENT
BEGIN:VEVENT
SUMMARY:Morning Service
DTSTART;TZID=Europe/London:20260419T110000
DTEND;TZID=Europe/London:20260419T120000
DTSTAMP:20260420T073153Z
UID:12795201776592800.0achurchnearyou
CATEGORIES:
DESCRIPTION:Holy Trinity Church\, Leven
LOCATION:Holy Trinity
URL:https://www.achurchnearyou.com/church/19129/service-and-events/events/
 1279520/
END:VEVENT
BEGIN:VEVENT
SUMMARY:Morning Service
DTSTART;TZID=Europe/London:20260426T093000
DTEND;TZID=Europe/London:20260426T103000
DTSTAMP:20260420T073153Z
UID:12795281777192200.0achurchnearyou
CATEGORIES:
DESCRIPTION:St Mary's Church\, Brandesburton
GEO:-0.297439;53.912921
LOCATION:St Mary
URL:https://www.achurchnearyou.com/church/19129/service-and-events/events/
 1279528/
END:VEVENT
BEGIN:VEVENT
SUMMARY:Morning Service
DTSTART;TZID=Europe/London:20260426T110000
DTEND;TZID=Europe/London:20260426T120000
DTSTAMP:20260420T073153Z
UID:12795201777197600.0achurchnearyou
CATEGORIES:
DESCRIPTION:Holy Trinity Church\, Leven
LOCATION:Holy Trinity
URL:https://www.achurchnearyou.com/church/19129/service-and-events/events/
 1279520/
END:VEVENT
BEGIN:VEVENT
SUMMARY:Morning Service
DTSTART;TZID=Europe/London:20260503T093000
DTEND;TZID=Europe/London:20260503T103000
DTSTAMP:20260420T073153Z
UID:12795281777797000.0achurchnearyou
CATEGORIES:
DESCRIPTION:St Mary's Church\, Brandesburton
GEO:-0.297439;53.912921
LOCATION:St Mary
URL:https://www.achurchnearyou.com/church/19129/service-and-events/events/
 1279528/
END:VEVENT
BEGIN:VEVENT
SUMMARY:Morning Service
DTSTART;TZID=Europe/London:20260503T110000
DTEND;TZID=Europe/London:20260503T120000
DTSTAMP:20260420T073153Z
UID:12795201777802400.0achurchnearyou
CATEGORIES:
DESCRIPTION:Holy Trinity Church\, Leven
LOCATION:Holy Trinity
URL:https://www.achurchnearyou.com/church/19129/service-and-events/events/
 1279520/
END:VEVENT
BEGIN:VEVENT
SUMMARY:Morning Service
DTSTART;TZID=Europe/London:20260510T093000
DTEND;TZID=Europe/London:20260510T103000
DTSTAMP:20260420T073153Z
UID:12795281778401800.0achurchnearyou
CATEGORIES:
DESCRIPTION:St Mary's Church\, Brandesburton
GEO:-0.297439;53.912921
LOCATION:St Mary
URL:https://www.achurchnearyou.com/church/19129/service-and-events/events/
 1279528/
END:VEVENT
BEGIN:VEVENT
SUMMARY:Morning Service
DTSTART;TZID=Europe/London:20260510T110000
DTEND;TZID=Europe/London:20260510T120000
DTSTAMP:20260420T073153Z
UID:12795201778407200.0achurchnearyou
CATEGORIES:
DESCRIPTION:Holy Trinity Church\, Leven
LOCATION:Holy Trinity
URL:https://www.achurchnearyou.com/church/19129/service-and-events/events/
 1279520/
END:VEVENT
BEGIN:VEVENT
SUMMARY:Morning Service
DTSTART;TZID=Europe/London:20260517T093000
DTEND;TZID=Europe/London:20260517T103000
DTSTAMP:20260420T073153Z
UID:12795281779006600.0achurchnearyou
CATEGORIES:
DESCRIPTION:St Mary's Church\, Brandesburton
GEO:-0.297439;53.912921
LOCATION:St Mary
URL:https://www.achurchnearyou.com/church/19129/service-and-events/events/
 1279528/
END:VEVENT
BEGIN:VEVENT
SUMMARY:Morning Service
DTSTART;TZID=Europe/London:20260517T110000
DTEND;TZID=Europe/London:20260517T120000
DTSTAMP:20260420T073153Z
UID:12795201779012000.0achurchnearyou
CATEGORIES:
DESCRIPTION:Holy Trinity Church\, Leven
LOCATION:Holy Trinity
URL:https://www.achurchnearyou.com/church/19129/service-and-events/events/
 1279520/
END:VEVENT
BEGIN:VEVENT
SUMMARY:Morning Service
DTSTART;TZID=Europe/London:20260524T093000
DTEND;TZID=Europe/London:20260524T103000
DTSTAMP:20260420T073153Z
UID:12795281779611400.0achurchnearyou
CATEGORIES:
DESCRIPTION:St Mary's Church\, Brandesburton
GEO:-0.297439;53.912921
LOCATION:St Mary
URL:https://www.achurchnearyou.com/church/19129/service-and-events/events/
 1279528/
END:VEVENT
BEGIN:VEVENT
SUMMARY:Morning Service
DTSTART;TZID=Europe/London:20260524T110000
DTEND;TZID=Europe/London:20260524T120000
DTSTAMP:20260420T073153Z
UID:12795201779616800.0achurchnearyou
CATEGORIES:
DESCRIPTION:Holy Trinity Church\, Leven
LOCATION:Holy Trinity
URL:https://www.achurchnearyou.com/church/19129/service-and-events/events/
 1279520/
END:VEVENT
BEGIN:VEVENT
SUMMARY:Morning Service
DTSTART;TZID=Europe/London:20260531T093000
DTEND;TZID=Europe/London:20260531T103000
DTSTAMP:20260420T073153Z
UID:12795281780216200.0achurchnearyou
CATEGORIES:
DESCRIPTION:St Mary's Church\, Brandesburton
GEO:-0.297439;53.912921
LOCATION:St Mary
URL:https://www.achurchnearyou.com/church/19129/service-and-events/events/
 1279528/
END:VEVENT
BEGIN:VEVENT
SUMMARY:Benefice Service
DTSTART;TZID=Europe/London:20260531T100000
DTEND;TZID=Europe/London:20260531T110000
DTSTAMP:20260420T073153Z
UID:3220511780218000.0achurchnearyou
CATEGORIES:
DESCRIPTION:This service rotates between the churches in the Benefice.
LOCATION:Either at St Marys\, Brandesburton or Holy Trinity\, Leven
URL:https://www.achurchnearyou.com/church/19129/service-and-events/events/
 322051/
END:VEVENT
BEGIN:VEVENT
SUMMARY:Morning Service
DTSTART;TZID=Europe/London:20260531T110000
DTEND;TZID=Europe/London:20260531T120000
DTSTAMP:20260420T073153Z
UID:12795201780221600.0achurchnearyou
CATEGORIES:
DESCRIPTION:Holy Trinity Church\, Leven
LOCATION:Holy Trinity
URL:https://www.achurchnearyou.com/church/19129/service-and-events/events/
 1279520/
END:VEVENT
BEGIN:VEVENT
SUMMARY:Morning Service
DTSTART;TZID=Europe/London:20260607T093000
DTEND;TZID=Europe/London:20260607T103000
DTSTAMP:20260420T073153Z
UID:12795281780821000.0achurchnearyou
CATEGORIES:
DESCRIPTION:St Mary's Church\, Brandesburton
GEO:-0.297439;53.912921
LOCATION:St Mary
URL:https://www.achurchnearyou.com/church/19129/service-and-events/events/
 1279528/
END:VEVENT
BEGIN:VEVENT
SUMMARY:Morning Service
DTSTART;TZID=Europe/London:20260607T110000
DTEND;TZID=Europe/London:20260607T120000
DTSTAMP:20260420T073153Z
UID:12795201780826400.0achurchnearyou
CATEGORIES:
DESCRIPTION:Holy Trinity Church\, Leven
LOCATION:Holy Trinity
URL:https://www.achurchnearyou.com/church/19129/service-and-events/events/
 1279520/
END:VEVENT
BEGIN:VEVENT
SUMMARY:Morning Service
DTSTART;TZID=Europe/London:20260614T093000
DTEND;TZID=Europe/London:20260614T103000
DTSTAMP:20260420T073153Z
UID:12795281781425800.0achurchnearyou
CATEGORIES:
DESCRIPTION:St Mary's Church\, Brandesburton
GEO:-0.297439;53.912921
LOCATION:St Mary
URL:https://www.achurchnearyou.com/church/19129/service-and-events/events/
 1279528/
END:VEVENT
BEGIN:VEVENT
SUMMARY:Morning Service
DTSTART;TZID=Europe/London:20260614T110000
DTEND;TZID=Europe/London:20260614T120000
DTSTAMP:20260420T073153Z
UID:12795201781431200.0achurchnearyou
CATEGORIES:
DESCRIPTION:Holy Trinity Church\, Leven
LOCATION:Holy Trinity
URL:https://www.achurchnearyou.com/church/19129/service-and-events/events/
 1279520/
END:VEVENT
BEGIN:VEVENT
SUMMARY:Morning Service
DTSTART;TZID=Europe/London:20260621T093000
DTEND;TZID=Europe/London:20260621T103000
DTSTAMP:20260420T073153Z
UID:12795281782030600.0achurchnearyou
CATEGORIES:
DESCRIPTION:St Mary's Church\, Brandesburton
GEO:-0.297439;53.912921
LOCATION:St Mary
URL:https://www.achurchnearyou.com/church/19129/service-and-events/events/
 1279528/
END:VEVENT
BEGIN:VEVENT
SUMMARY:Morning Service
DTSTART;TZID=Europe/London:20260621T110000
DTEND;TZID=Europe/London:20260621T120000
DTSTAMP:20260420T073153Z
UID:12795201782036000.0achurchnearyou
CATEGORIES:
DESCRIPTION:Holy Trinity Church\, Leven
LOCATION:Holy Trinity
URL:https://www.achurchnearyou.com/church/19129/service-and-events/events/
 1279520/
END:VEVENT
BEGIN:VEVENT
SUMMARY:Morning Service
DTSTART;TZID=Europe/London:20260628T093000
DTEND;TZID=Europe/London:20260628T103000
DTSTAMP:20260420T073153Z
UID:12795281782635400.0achurchnearyou
CATEGORIES:
DESCRIPTION:St Mary's Church\, Brandesburton
GEO:-0.297439;53.912921
LOCATION:St Mary
URL:https://www.achurchnearyou.com/church/19129/service-and-events/events/
 1279528/
END:VEVENT
BEGIN:VEVENT
SUMMARY:Morning Service
DTSTART;TZID=Europe/London:20260628T110000
DTEND;TZID=Europe/London:20260628T120000
DTSTAMP:20260420T073153Z
UID:12795201782640800.0achurchnearyou
CATEGORIES:
DESCRIPTION:Holy Trinity Church\, Leven
LOCATION:Holy Trinity
URL:https://www.achurchnearyou.com/church/19129/service-and-events/events/
 1279520/
END:VEVENT
BEGIN:VEVENT
SUMMARY:Morning Service
DTSTART;TZID=Europe/London:20260705T093000
DTEND;TZID=Europe/London:20260705T103000
DTSTAMP:20260420T073153Z
UID:12795281783240200.0achurchnearyou
CATEGORIES:
DESCRIPTION:St Mary's Church\, Brandesburton
GEO:-0.297439;53.912921
LOCATION:St Mary
URL:https://www.achurchnearyou.com/church/19129/service-and-events/events/
 1279528/
END:VEVENT
BEGIN:VEVENT
SUMMARY:Morning Service
DTSTART;TZID=Europe/London:20260705T110000
DTEND;TZID=Europe/London:20260705T120000
DTSTAMP:20260420T073153Z
UID:12795201783245600.0achurchnearyou
CATEGORIES:
DESCRIPTION:Holy Trinity Church\, Leven
LOCATION:Holy Trinity
URL:https://www.achurchnearyou.com/church/19129/service-and-events/events/
 1279520/
END:VEVENT
BEGIN:VEVENT
SUMMARY:Morning Service
DTSTART;TZID=Europe/London:20260712T093000
DTEND;TZID=Europe/London:20260712T103000
DTSTAMP:20260420T073153Z
UID:12795281783845000.0achurchnearyou
CATEGORIES:
DESCRIPTION:St Mary's Church\, Brandesburton
GEO:-0.297439;53.912921
LOCATION:St Mary
URL:https://www.achurchnearyou.com/church/19129/service-and-events/events/
 1279528/
END:VEVENT
BEGIN:VEVENT
SUMMARY:Morning Service
DTSTART;TZID=Europe/London:20260712T110000
DTEND;TZID=Europe/London:20260712T120000
DTSTAMP:20260420T073153Z
UID:12795201783850400.0achurchnearyou
CATEGORIES:
DESCRIPTION:Holy Trinity Church\, Leven
LOCATION:Holy Trinity
URL:https://www.achurchnearyou.com/church/19129/service-and-events/events/
 1279520/
END:VEVENT
BEGIN:VEVENT
SUMMARY:Morning Service
DTSTART;TZID=Europe/London:20260719T093000
DTEND;TZID=Europe/London:20260719T103000
DTSTAMP:20260420T073153Z
UID:12795281784449800.0achurchnearyou
CATEGORIES:
DESCRIPTION:St Mary's Church\, Brandesburton
GEO:-0.297439;53.912921
LOCATION:St Mary
URL:https://www.achurchnearyou.com/church/19129/service-and-events/events/
 1279528/
END:VEVENT
BEGIN:VEVENT
SUMMARY:Morning Service
DTSTART;TZID=Europe/London:20260719T110000
DTEND;TZID=Europe/London:20260719T120000
DTSTAMP:20260420T073153Z
UID:12795201784455200.0achurchnearyou
CATEGORIES:
DESCRIPTION:Holy Trinity Church\, Leven
LOCATION:Holy Trinity
URL:https://www.achurchnearyou.com/church/19129/service-and-events/events/
 1279520/
END:VEVENT
BEGIN:VEVENT
SUMMARY:Morning Service
DTSTART;TZID=Europe/London:20260726T093000
DTEND;TZID=Europe/London:20260726T103000
DTSTAMP:20260420T073153Z
UID:12795281785054600.0achurchnearyou
CATEGORIES:
DESCRIPTION:St Mary's Church\, Brandesburton
GEO:-0.297439;53.912921
LOCATION:St Mary
URL:https://www.achurchnearyou.com/church/19129/service-and-events/events/
 1279528/
END:VEVENT
BEGIN:VEVENT
SUMMARY:Morning Service
DTSTART;TZID=Europe/London:20260726T110000
DTEND;TZID=Europe/London:20260726T120000
DTSTAMP:20260420T073153Z
UID:12795201785060000.0achurchnearyou
CATEGORIES:
DESCRIPTION:Holy Trinity Church\, Leven
LOCATION:Holy Trinity
URL:https://www.achurchnearyou.com/church/19129/service-and-events/events/
 1279520/
END:VEVENT
BEGIN:VEVENT
SUMMARY:Morning Service
DTSTART;TZID=Europe/London:20260802T093000
DTEND;TZID=Europe/London:20260802T103000
DTSTAMP:20260420T073153Z
UID:12795281785659400.0achurchnearyou
CATEGORIES:
DESCRIPTION:St Mary's Church\, Brandesburton
GEO:-0.297439;53.912921
LOCATION:St Mary
URL:https://www.achurchnearyou.com/church/19129/service-and-events/events/
 1279528/
END:VEVENT
BEGIN:VEVENT
SUMMARY:Morning Service
DTSTART;TZID=Europe/London:20260802T110000
DTEND;TZID=Europe/London:20260802T120000
DTSTAMP:20260420T073153Z
UID:12795201785664800.0achurchnearyou
CATEGORIES:
DESCRIPTION:Holy Trinity Church\, Leven
LOCATION:Holy Trinity
URL:https://www.achurchnearyou.com/church/19129/service-and-events/events/
 1279520/
END:VEVENT
BEGIN:VEVENT
SUMMARY:Morning Service
DTSTART;TZID=Europe/London:20260809T093000
DTEND;TZID=Europe/London:20260809T103000
DTSTAMP:20260420T073153Z
UID:12795281786264200.0achurchnearyou
CATEGORIES:
DESCRIPTION:St Mary's Church\, Brandesburton
GEO:-0.297439;53.912921
LOCATION:St Mary
URL:https://www.achurchnearyou.com/church/19129/service-and-events/events/
 1279528/
END:VEVENT
BEGIN:VEVENT
SUMMARY:Morning Service
DTSTART;TZID=Europe/London:20260809T110000
DTEND;TZID=Europe/London:20260809T120000
DTSTAMP:20260420T073153Z
UID:12795201786269600.0achurchnearyou
CATEGORIES:
DESCRIPTION:Holy Trinity Church\, Leven
LOCATION:Holy Trinity
URL:https://www.achurchnearyou.com/church/19129/service-and-events/events/
 1279520/
END:VEVENT
BEGIN:VEVENT
SUMMARY:Morning Service
DTSTART;TZID=Europe/London:20260816T093000
DTEND;TZID=Europe/London:20260816T103000
DTSTAMP:20260420T073153Z
UID:12795281786869000.0achurchnearyou
CATEGORIES:
DESCRIPTION:St Mary's Church\, Brandesburton
GEO:-0.297439;53.912921
LOCATION:St Mary
URL:https://www.achurchnearyou.com/church/19129/service-and-events/events/
 1279528/
END:VEVENT
BEGIN:VEVENT
SUMMARY:Morning Service
DTSTART;TZID=Europe/London:20260816T110000
DTEND;TZID=Europe/London:20260816T120000
DTSTAMP:20260420T073153Z
UID:12795201786874400.0achurchnearyou
CATEGORIES:
DESCRIPTION:Holy Trinity Church\, Leven
LOCATION:Holy Trinity
URL:https://www.achurchnearyou.com/church/19129/service-and-events/events/
 1279520/
END:VEVENT
BEGIN:VEVENT
SUMMARY:Morning Service
DTSTART;TZID=Europe/London:20260823T093000
DTEND;TZID=Europe/London:20260823T103000
DTSTAMP:20260420T073153Z
UID:12795281787473800.0achurchnearyou
CATEGORIES:
DESCRIPTION:St Mary's Church\, Brandesburton
GEO:-0.297439;53.912921
LOCATION:St Mary
URL:https://www.achurchnearyou.com/church/19129/service-and-events/events/
 1279528/
END:VEVENT
BEGIN:VEVENT
SUMMARY:Morning Service
DTSTART;TZID=Europe/London:20260823T110000
DTEND;TZID=Europe/London:20260823T120000
DTSTAMP:20260420T073153Z
UID:12795201787479200.0achurchnearyou
CATEGORIES:
DESCRIPTION:Holy Trinity Church\, Leven
LOCATION:Holy Trinity
URL:https://www.achurchnearyou.com/church/19129/service-and-events/events/
 1279520/
END:VEVENT
BEGIN:VEVENT
SUMMARY:Morning Service
DTSTART;TZID=Europe/London:20260830T093000
DTEND;TZID=Europe/London:20260830T103000
DTSTAMP:20260420T073153Z
UID:12795281788078600.0achurchnearyou
CATEGORIES:
DESCRIPTION:St Mary's Church\, Brandesburton
GEO:-0.297439;53.912921
LOCATION:St Mary
URL:https://www.achurchnearyou.com/church/19129/service-and-events/events/
 1279528/
END:VEVENT
BEGIN:VEVENT
SUMMARY:Benefice Service
DTSTART;TZID=Europe/London:20260830T100000
DTEND;TZID=Europe/London:20260830T110000
DTSTAMP:20260420T073153Z
UID:3220511788080400.0achurchnearyou
CATEGORIES:
DESCRIPTION:This service rotates between the churches in the Benefice.
LOCATION:Either at St Marys\, Brandesburton or Holy Trinity\, Leven
URL:https://www.achurchnearyou.com/church/19129/service-and-events/events/
 322051/
END:VEVENT
BEGIN:VEVENT
SUMMARY:Morning Service
DTSTART;TZID=Europe/London:20260830T110000
DTEND;TZID=Europe/London:20260830T120000
DTSTAMP:20260420T073153Z
UID:12795201788084000.0achurchnearyou
CATEGORIES:
DESCRIPTION:Holy Trinity Church\, Leven
LOCATION:Holy Trinity
URL:https://www.achurchnearyou.com/church/19129/service-and-events/events/
 1279520/
END:VEVENT
BEGIN:VEVENT
SUMMARY:Morning Service
DTSTART;TZID=Europe/London:20260906T093000
DTEND;TZID=Europe/London:20260906T103000
DTSTAMP:20260420T073153Z
UID:12795281788683400.0achurchnearyou
CATEGORIES:
DESCRIPTION:St Mary's Church\, Brandesburton
GEO:-0.297439;53.912921
LOCATION:St Mary
URL:https://www.achurchnearyou.com/church/19129/service-and-events/events/
 1279528/
END:VEVENT
BEGIN:VEVENT
SUMMARY:Morning Service
DTSTART;TZID=Europe/London:20260906T110000
DTEND;TZID=Europe/London:20260906T120000
DTSTAMP:20260420T073153Z
UID:12795201788688800.0achurchnearyou
CATEGORIES:
DESCRIPTION:Holy Trinity Church\, Leven
LOCATION:Holy Trinity
URL:https://www.achurchnearyou.com/church/19129/service-and-events/events/
 1279520/
END:VEVENT
BEGIN:VEVENT
SUMMARY:Morning Service
DTSTART;TZID=Europe/London:20260913T093000
DTEND;TZID=Europe/London:20260913T103000
DTSTAMP:20260420T073153Z
UID:12795281789288200.0achurchnearyou
CATEGORIES:
DESCRIPTION:St Mary's Church\, Brandesburton
GEO:-0.297439;53.912921
LOCATION:St Mary
URL:https://www.achurchnearyou.com/church/19129/service-and-events/events/
 1279528/
END:VEVENT
BEGIN:VEVENT
SUMMARY:Morning Service
DTSTART;TZID=Europe/London:20260913T110000
DTEND;TZID=Europe/London:20260913T120000
DTSTAMP:20260420T073153Z
UID:12795201789293600.0achurchnearyou
CATEGORIES:
DESCRIPTION:Holy Trinity Church\, Leven
LOCATION:Holy Trinity
URL:https://www.achurchnearyou.com/church/19129/service-and-events/events/
 1279520/
END:VEVENT
BEGIN:VEVENT
SUMMARY:Morning Service
DTSTART;TZID=Europe/London:20260920T093000
DTEND;TZID=Europe/London:20260920T103000
DTSTAMP:20260420T073153Z
UID:12795281789893000.0achurchnearyou
CATEGORIES:
DESCRIPTION:St Mary's Church\, Brandesburton
GEO:-0.297439;53.912921
LOCATION:St Mary
URL:https://www.achurchnearyou.com/church/19129/service-and-events/events/
 1279528/
END:VEVENT
BEGIN:VEVENT
SUMMARY:Morning Service
DTSTART;TZID=Europe/London:20260920T110000
DTEND;TZID=Europe/London:20260920T120000
DTSTAMP:20260420T073153Z
UID:12795201789898400.0achurchnearyou
CATEGORIES:
DESCRIPTION:Holy Trinity Church\, Leven
LOCATION:Holy Trinity
URL:https://www.achurchnearyou.com/church/19129/service-and-events/events/
 1279520/
END:VEVENT
BEGIN:VEVENT
SUMMARY:Morning Service
DTSTART;TZID=Europe/London:20260927T093000
DTEND;TZID=Europe/London:20260927T103000
DTSTAMP:20260420T073153Z
UID:12795281790497800.0achurchnearyou
CATEGORIES:
DESCRIPTION:St Mary's Church\, Brandesburton
GEO:-0.297439;53.912921
LOCATION:St Mary
URL:https://www.achurchnearyou.com/church/19129/service-and-events/events/
 1279528/
END:VEVENT
BEGIN:VEVENT
SUMMARY:Morning Service
DTSTART;TZID=Europe/London:20260927T110000
DTEND;TZID=Europe/London:20260927T120000
DTSTAMP:20260420T073153Z
UID:12795201790503200.0achurchnearyou
CATEGORIES:
DESCRIPTION:Holy Trinity Church\, Leven
LOCATION:Holy Trinity
URL:https://www.achurchnearyou.com/church/19129/service-and-events/events/
 1279520/
END:VEVENT
END:VCALENDAR
