BEGIN:VCALENDAR
VERSION:2.0
PRODID:-//achurchnearyou.com//eventfeed//EN
CALSCALE:GREGORIAN
METHOD:PUBLISH
X-WR-TIMEZONE:UTC
BEGIN:VEVENT
SUMMARY:Benefice Midnight Eucharist
DTSTART:20251224T233000Z
DTEND:20251225T003000Z
DTSTAMP:20260420T044429Z
UID:12725732025-12-24 23:30:00+00:00achurchnearyou
CATEGORIES:
DESCRIPTION:A midnigh servce of Holy Communion to celebrate the birth of o
 ur Lord.
LOCATION:St Mary & St Lambert\, Stonham Aspal and Mickfield.
URL:https://www.achurchnearyou.com/church/1913/service-and-events/events/1
 272573/
END:VEVENT
END:VCALENDAR
