BEGIN:VCALENDAR
VERSION:2.0
PRODID:-//achurchnearyou.com//eventfeed//EN
CALSCALE:GREGORIAN
METHOD:PUBLISH
X-WR-TIMEZONE:UTC
BEGIN:VEVENT
SUMMARY:5th Sunday Holy Communion
DTSTART;TZID=Europe/London:20260531T103000
DTEND;TZID=Europe/London:20260531T111500
DTSTAMP:20260421T171002Z
UID:4596502026-05-31 10:30:00+01:00achurchnearyou
CATEGORIES:
DESCRIPTION:
GEO:-0.61635;53.817533
LOCATION:St Nicholas
URL:https://www.achurchnearyou.com/church/19176/service-and-events/events/
 459650/
END:VEVENT
BEGIN:VEVENT
SUMMARY:5th Sunday Holy Communion
DTSTART;TZID=Europe/London:20260830T103000
DTEND;TZID=Europe/London:20260830T111500
DTSTAMP:20260421T171002Z
UID:4596502026-08-30 10:30:00+01:00achurchnearyou
CATEGORIES:
DESCRIPTION:
GEO:-0.61635;53.817533
LOCATION:St Nicholas
URL:https://www.achurchnearyou.com/church/19176/service-and-events/events/
 459650/
END:VEVENT
BEGIN:VEVENT
SUMMARY:5th Sunday Holy Communion
DTSTART;TZID=Europe/London:20261129T103000
DTEND;TZID=Europe/London:20261129T111500
DTSTAMP:20260421T171002Z
UID:4596502026-11-29 10:30:00+00:00achurchnearyou
CATEGORIES:
DESCRIPTION:
GEO:-0.61635;53.817533
LOCATION:St Nicholas
URL:https://www.achurchnearyou.com/church/19176/service-and-events/events/
 459650/
END:VEVENT
BEGIN:VEVENT
SUMMARY:5th Sunday Holy Communion
DTSTART;TZID=Europe/London:20270131T103000
DTEND;TZID=Europe/London:20270131T111500
DTSTAMP:20260421T171002Z
UID:4596502027-01-31 10:30:00+00:00achurchnearyou
CATEGORIES:
DESCRIPTION:
GEO:-0.61635;53.817533
LOCATION:St Nicholas
URL:https://www.achurchnearyou.com/church/19176/service-and-events/events/
 459650/
END:VEVENT
END:VCALENDAR
