BEGIN:VCALENDAR
VERSION:2.0
PRODID:-//achurchnearyou.com//eventfeed//EN
CALSCALE:GREGORIAN
METHOD:PUBLISH
X-WR-TIMEZONE:UTC
BEGIN:VEVENT
SUMMARY:Christmas Eve Nativity service
DTSTART:20251224T160000Z
DTEND:20251224T170000Z
DTSTAMP:20260422T132646Z
UID:12760682025-12-24 16:00:00+00:00achurchnearyou
CATEGORIES:
DESCRIPTION:Family friendly service following the journey to Bethlehem wit
 h an opportunity for children to participate in the Nativity story.
GEO:-0.35193;53.76868
LOCATION:St Johns Newland\, Hull
URL:https://www.stjohnnewland.org.uk/
END:VEVENT
END:VCALENDAR
