BEGIN:VCALENDAR
VERSION:2.0
PRODID:-//achurchnearyou.com//eventfeed//EN
CALSCALE:GREGORIAN
METHOD:PUBLISH
X-WR-TIMEZONE:UTC
BEGIN:VEVENT
SUMMARY:Christmas Day service with Holy Communion
DTSTART:20251225T103000Z
DTEND:20251225T113000Z
DTSTAMP:20260422T132653Z
UID:12760712025-12-25 10:30:00+00:00achurchnearyou
CATEGORIES:
DESCRIPTION:A celebration of the birth of Jesus.
GEO:-0.35193;53.76868
LOCATION:St Johns Newland\, Hull
URL:https://www.stjohnnewland.org.uk/
END:VEVENT
END:VCALENDAR
