BEGIN:VCALENDAR
VERSION:2.0
PRODID:-//achurchnearyou.com//eventfeed//EN
CALSCALE:GREGORIAN
METHOD:PUBLISH
X-WR-TIMEZONE:UTC
BEGIN:VEVENT
SUMMARY:Explore Easter
DTSTART:20260403T090000Z
DTEND:20260403T103000Z
DTSTAMP:20260422T052813Z
UID:13065302026-04-03 09:00:00+00:00achurchnearyou
CATEGORIES:
DESCRIPTION:An event for children and families\, find out more about the E
 aster story with crafts and activities.
GEO:-0.35193;53.76868
LOCATION:St Johns Newland\, Hull
URL:https://www.achurchnearyou.com/church/19204/service-and-events/events/
 1306530/
END:VEVENT
END:VCALENDAR
