BEGIN:VCALENDAR
VERSION:2.0
PRODID:-//achurchnearyou.com//eventfeed//EN
CALSCALE:GREGORIAN
METHOD:PUBLISH
X-WR-TIMEZONE:UTC
BEGIN:VEVENT
SUMMARY:Remembrance Service
DTSTART:20251109T091500Z
DTEND:20251109T101500Z
DTSTAMP:20260422T085532Z
UID:12336022025-11-09 09:15:00+00:00achurchnearyou
CATEGORIES:
DESCRIPTION:Come and join us to pay your respects to all the fallen.
GEO:-0.339792;53.751267
LOCATION:St Paul’s Church\, Sculcoates\, Hull
URL:https://www.achurchnearyou.com/church/19208/service-and-events/events/
 1233602/
END:VEVENT
END:VCALENDAR
