BEGIN:VCALENDAR
VERSION:2.0
PRODID:-//achurchnearyou.com//eventfeed//EN
CALSCALE:GREGORIAN
METHOD:PUBLISH
X-WR-TIMEZONE:UTC
BEGIN:VEVENT
SUMMARY:Joint Christingle and Toy Mass with St Mary’s Church
DTSTART:20251207T103000Z
DTEND:20251207T113000Z
DTSTAMP:20260422T105346Z
UID:12336042025-12-07 10:30:00+00:00achurchnearyou
CATEGORIES:
DESCRIPTION:Come and join us for the start of our festive celebrations. 10
 .30am for our Toy Mass and Christingle Service. Donations welcomed for our
  Christmas charity.
GEO:-0.339792;53.751267
LOCATION:St Paul’s Church\, Sculcoates\, Hull
URL:https://www.achurchnearyou.com/church/19208/service-and-events/events/
 1233604/
END:VEVENT
END:VCALENDAR
