BEGIN:VCALENDAR
VERSION:2.0
PRODID:-//achurchnearyou.com//eventfeed//EN
CALSCALE:GREGORIAN
METHOD:PUBLISH
X-WR-TIMEZONE:UTC
BEGIN:VEVENT
SUMMARY:God and Play
DTSTART:20260118T150000Z
DTEND:20260118T160000Z
DTSTAMP:20260424T125619Z
UID:12548272026-01-18 15:00:00+00:00achurchnearyou
CATEGORIES:
DESCRIPTION:All age worship
GEO:1.04408;52.305004
LOCATION:Gislingham\, St Mary the Virgin
URL:https://www.achurchnearyou.com/church/1927/service-and-events/events/1
 254827/
END:VEVENT
END:VCALENDAR
