BEGIN:VCALENDAR
VERSION:2.0
PRODID:-//achurchnearyou.com//eventfeed//EN
CALSCALE:GREGORIAN
METHOD:PUBLISH
X-WR-TIMEZONE:UTC
BEGIN:VEVENT
SUMMARY:Prayer\, Praise and Picnic: St Chad's\, Sproxton: Thursday\, 5th J
 une (6.00 p.m.)
DTSTART:20250605T170000Z
DTEND:20250605T180000Z
DTSTAMP:20260426T042443Z
UID:10841142025-06-05 17:00:00+00:00achurchnearyou
CATEGORIES:
DESCRIPTION:Come and join us for a service of worship and celebration in t
 he church dedicated to St Chad at Sproxton\, one of the beautiful hamlet c
 hurches in the Parish of Helmsley.\nThe service will be followed by a cele
 bratory Bring and Share Picnic!
LOCATION:St Chad
URL:https://www.achurchnearyou.com/church/19273/service-and-events/events/
 1084114/
END:VEVENT
END:VCALENDAR
