BEGIN:VCALENDAR
VERSION:2.0
PRODID:-//achurchnearyou.com//eventfeed//EN
CALSCALE:GREGORIAN
METHOD:PUBLISH
X-WR-TIMEZONE:UTC
BEGIN:VEVENT
SUMMARY:Christmas Family Communion
DTSTART:20251225T103000Z
DTEND:20251225T113000Z
DTSTAMP:20260420T191239Z
UID:12710672025-12-25 10:30:00+00:00achurchnearyou
CATEGORIES:
DESCRIPTION:Bring in Christmas Day\, the joyful day of the birth of Jesus 
 Christ\, God-with-Us\, together. All ages welcome.
GEO:-0.930635;54.270446
LOCATION:All Saints' Church\, Kirkbymoorside
URL:https://www.achurchnearyou.com/church/19278/service-and-events/events/
 1271067/
END:VEVENT
END:VCALENDAR
