BEGIN:VCALENDAR
VERSION:2.0
PRODID:-//achurchnearyou.com//eventfeed//EN
CALSCALE:GREGORIAN
METHOD:PUBLISH
X-WR-TIMEZONE:UTC
BEGIN:VEVENT
SUMMARY:Midnight Communion for Christmas
DTSTART:20251224T233000Z
DTEND:20251225T010000Z
DTSTAMP:20260420T191255Z
UID:12716242025-12-24 23:30:00+00:00achurchnearyou
CATEGORIES:
DESCRIPTION:A traditional service of prayer\, carols and Holy Communion to
  bring in the celebration of the birth of Jusus Christ\, God-with-Us.
GEO:-0.930635;54.270446
LOCATION:All Saints' Church\, Kirkbymoorside
URL:https://www.achurchnearyou.com/church/19278/service-and-events/events/
 1271624/
END:VEVENT
END:VCALENDAR
