BEGIN:VCALENDAR
VERSION:2.0
PRODID:-//achurchnearyou.com//eventfeed//EN
CALSCALE:GREGORIAN
METHOD:PUBLISH
X-WR-TIMEZONE:UTC
BEGIN:VEVENT
SUMMARY:Eucharist and Vigil for Maundy Thursday
DTSTART:20260402T180000Z
DTEND:20260402T210000Z
DTSTAMP:20260420T093809Z
UID:12984362026-04-02 18:00:00+00:00achurchnearyou
CATEGORIES:
DESCRIPTION:We commemorate the beginning of Our Lord's passion\, suffering
  and death with a reflective service\, ending with the stripping of all re
 movable decoration and adornment from the building\, followed by an opport
 unity for those who wish to stay in church and spend time in prayer\, medi
 tation or thought.
GEO:-0.930635;54.270446
LOCATION:All Saints' Church\, Kirkbymoorside
URL:https://www.achurchnearyou.com/church/19278/service-and-events/events/
 1298436/
END:VEVENT
END:VCALENDAR
