BEGIN:VCALENDAR
VERSION:2.0
PRODID:-//achurchnearyou.com//eventfeed//EN
CALSCALE:GREGORIAN
METHOD:PUBLISH
X-WR-TIMEZONE:UTC
BEGIN:VEVENT
SUMMARY:Carol Service
DTSTART:20251224T180000Z
DTEND:20251224T190000Z
DTSTAMP:20260420T191236Z
UID:12716252025-12-24 18:00:00+00:00achurchnearyou
CATEGORIES:
DESCRIPTION:A traditional service celebrating the coming birth of Jesus Ch
 rist\, God-with-Us\, with well-loved Christmas carols.
GEO:-1.04641;54.377718
LOCATION:St Nicholas\, Bransdale
URL:https://www.achurchnearyou.com/church/19279/service-and-events/events/
 1271625/
END:VEVENT
END:VCALENDAR
