BEGIN:VCALENDAR
VERSION:2.0
PRODID:-//achurchnearyou.com//eventfeed//EN
CALSCALE:GREGORIAN
METHOD:PUBLISH
X-WR-TIMEZONE:UTC
BEGIN:VEVENT
SUMMARY:Amazing Grace: live theatre comes to All Saints\, Kirkbymoorside
DTSTART:20260317T190000Z
DTEND:20260317T213000Z
DTSTAMP:20260420T194407Z
UID:13041542026-03-17 19:00:00+00:00achurchnearyou
CATEGORIES:
DESCRIPTION:The life and conversion of slave captain turned Christian prea
 cher and evangelist John Newton - writer of the hymn 'Amazing Grace' - pla
 yed out by professional Oddments Theatre Company in Kirkbymoorside's beaut
 iful historic parish church.\n\nAdults: £14.50. Young people 10-13: £10.
 36.
LOCATION:All Saints' Church\, Kirkbymoorside
URL:https://www.oddments-theatre.co.uk/book-your-tickets-here
END:VEVENT
END:VCALENDAR
