BEGIN:VCALENDAR
VERSION:2.0
PRODID:-//achurchnearyou.com//eventfeed//EN
CALSCALE:GREGORIAN
METHOD:PUBLISH
X-WR-TIMEZONE:UTC
BEGIN:VEVENT
SUMMARY:Agape Lunch
DTSTART;TZID=Europe/London:20260225T123000
DTEND;TZID=Europe/London:20260225T133000
DTSTAMP:20260419T132439Z
UID:10225882026-02-25 12:30:00+00:00achurchnearyou
CATEGORIES:
DESCRIPTION:The Church of England sees the agape meal as an occasion for C
 hristian fellowship\, recalling the meals Jesus shared with disciples duri
 ng His ministry\, one expressing their common life\, that is to say the fe
 llowship enjoyed by the family of Christ.
GEO:-1.248858;54.54638
LOCATION:St Mary West Acklam
URL:https://www.achurchnearyou.com/church/19289/service-and-events/events/
 1022588/
END:VEVENT
BEGIN:VEVENT
SUMMARY:Agape Lunch
DTSTART;TZID=Europe/London:20260318T123000
DTEND;TZID=Europe/London:20260318T133000
DTSTAMP:20260419T132439Z
UID:10225882026-03-18 12:30:00+00:00achurchnearyou
CATEGORIES:
DESCRIPTION:The Church of England sees the agape meal as an occasion for C
 hristian fellowship\, recalling the meals Jesus shared with disciples duri
 ng His ministry\, one expressing their common life\, that is to say the fe
 llowship enjoyed by the family of Christ.
GEO:-1.248858;54.54638
LOCATION:St Mary West Acklam
URL:https://www.achurchnearyou.com/church/19289/service-and-events/events/
 1022588/
END:VEVENT
BEGIN:VEVENT
SUMMARY:Agape Lunch
DTSTART;TZID=Europe/London:20260325T123000
DTEND;TZID=Europe/London:20260325T133000
DTSTAMP:20260419T132439Z
UID:10225882026-03-25 12:30:00+00:00achurchnearyou
CATEGORIES:
DESCRIPTION:The Church of England sees the agape meal as an occasion for C
 hristian fellowship\, recalling the meals Jesus shared with disciples duri
 ng His ministry\, one expressing their common life\, that is to say the fe
 llowship enjoyed by the family of Christ.
GEO:-1.248858;54.54638
LOCATION:St Mary West Acklam
URL:https://www.achurchnearyou.com/church/19289/service-and-events/events/
 1022588/
END:VEVENT
END:VCALENDAR
