BEGIN:VCALENDAR
VERSION:2.0
PRODID:-//achurchnearyou.com//eventfeed//EN
CALSCALE:GREGORIAN
METHOD:PUBLISH
X-WR-TIMEZONE:UTC
BEGIN:VEVENT
SUMMARY:Lent Study
DTSTART;TZID=Europe/London:20260224T190000
DTEND;TZID=Europe/London:20260224T200000
DTSTAMP:20260419T132355Z
UID:6365282026-02-24 19:00:00+00:00achurchnearyou
CATEGORIES:
DESCRIPTION:Sacraments by Jane Williams\,  a York Diocese course.   \n\nTh
 e course is held via Zoom\,  please contact the vicar for the link.
LOCATION:Via Zoom  contact vicar.
URL:https://www.achurchnearyou.com/church/19289/service-and-events/events/
 636528/
END:VEVENT
BEGIN:VEVENT
SUMMARY:Lent Study
DTSTART;TZID=Europe/London:20260303T190000
DTEND;TZID=Europe/London:20260303T200000
DTSTAMP:20260419T132355Z
UID:6365282026-03-03 19:00:00+00:00achurchnearyou
CATEGORIES:
DESCRIPTION:Sacraments by Jane Williams\,  a York Diocese course.   \n\nTh
 e course is held via Zoom\,  please contact the vicar for the link.
LOCATION:Via Zoom  contact vicar.
URL:https://www.achurchnearyou.com/church/19289/service-and-events/events/
 636528/
END:VEVENT
BEGIN:VEVENT
SUMMARY:Lent Study
DTSTART;TZID=Europe/London:20260317T190000
DTEND;TZID=Europe/London:20260317T200000
DTSTAMP:20260419T132355Z
UID:6365282026-03-17 19:00:00+00:00achurchnearyou
CATEGORIES:
DESCRIPTION:Sacraments by Jane Williams\,  a York Diocese course.   \n\nTh
 e course is held via Zoom\,  please contact the vicar for the link.
LOCATION:Via Zoom  contact vicar.
URL:https://www.achurchnearyou.com/church/19289/service-and-events/events/
 636528/
END:VEVENT
BEGIN:VEVENT
SUMMARY:Lent Study
DTSTART;TZID=Europe/London:20260324T190000
DTEND;TZID=Europe/London:20260324T200000
DTSTAMP:20260419T132355Z
UID:6365282026-03-24 19:00:00+00:00achurchnearyou
CATEGORIES:
DESCRIPTION:Sacraments by Jane Williams\,  a York Diocese course.   \n\nTh
 e course is held via Zoom\,  please contact the vicar for the link.
LOCATION:Via Zoom  contact vicar.
URL:https://www.achurchnearyou.com/church/19289/service-and-events/events/
 636528/
END:VEVENT
END:VCALENDAR
