BEGIN:VCALENDAR
VERSION:2.0
PRODID:-//achurchnearyou.com//eventfeed//EN
CALSCALE:GREGORIAN
METHOD:PUBLISH
X-WR-TIMEZONE:UTC
BEGIN:VEVENT
SUMMARY:Morning Worship
DTSTART:20250615T083000Z
DTEND:20250615T091500Z
DTSTAMP:20260422T142744Z
UID:12050932025-06-15 08:30:00+00:00achurchnearyou
CATEGORIES:
DESCRIPTION:Our usual Morning Worship on the Second Sunday of the month ha
 s moved in June to the third Sunday - 15th June - as there is a special ev
 ent at White House Farm Gt Glemham at 3pm for Pentecost on the second Sund
 ay 8th June.
GEO:1.422895;52.203278
LOCATION:Gt Glemham\, All Saints
URL:https://www.achurchnearyou.com/church/1932/service-and-events/events/1
 205093/
END:VEVENT
END:VCALENDAR
