BEGIN:VCALENDAR
VERSION:2.0
PRODID:-//achurchnearyou.com//eventfeed//EN
CALSCALE:GREGORIAN
METHOD:PUBLISH
X-WR-TIMEZONE:UTC
BEGIN:VEVENT
SUMMARY:Compline
DTSTART:20260330T173000Z
DTEND:20260330T183000Z
DTSTAMP:20260419T183709Z
UID:13104282026-03-30 17:30:00+00:00achurchnearyou
CATEGORIES:
DESCRIPTION:Compline with a Holy Week reflection
GEO:1.422895;52.203278
LOCATION:Gt Glemham\, All Saints
URL:https://www.achurchnearyou.com/church/1932/service-and-events/events/1
 310428/
END:VEVENT
END:VCALENDAR
