BEGIN:VCALENDAR
VERSION:2.0
PRODID:-//achurchnearyou.com//eventfeed//EN
CALSCALE:GREGORIAN
METHOD:PUBLISH
X-WR-TIMEZONE:UTC
BEGIN:VEVENT
SUMMARY:Christmas Day Communion
DTSTART:20251225T103000Z
DTEND:20251225T113000Z
DTSTAMP:20260425T122804Z
UID:12681262025-12-25 10:30:00+00:00achurchnearyou
CATEGORIES:
DESCRIPTION:Eucharist service on Christmas morning.
GEO:-0.508861;54.242798
LOCATION:St Matthew's Parish Church
URL:https://www.achurchnearyou.com/church/19320/service-and-events/events/
 1268126/
END:VEVENT
END:VCALENDAR
