BEGIN:VCALENDAR
VERSION:2.0
PRODID:-//achurchnearyou.com//eventfeed//EN
CALSCALE:GREGORIAN
METHOD:PUBLISH
X-WR-TIMEZONE:UTC
BEGIN:VEVENT
SUMMARY:Test
DTSTART:20260404T130000Z
DTEND:20260404T133000Z
DTSTAMP:20260424T173511Z
UID:13211572026-04-04 13:00:00+00:00achurchnearyou
CATEGORIES:
DESCRIPTION:This is a test entry in the Benefice calendar. If you actually
  turn up\, please enjoy a wander around our large churchyard!
GEO:-0.508861;54.242798
LOCATION:St Matthew's Parish Church
URL:https://www.achurchnearyou.com/church/19320/service-and-events/events/
 1321157/
END:VEVENT
END:VCALENDAR
