BEGIN:VCALENDAR
VERSION:2.0
PRODID:-//achurchnearyou.com//eventfeed//EN
CALSCALE:GREGORIAN
METHOD:PUBLISH
X-WR-TIMEZONE:UTC
BEGIN:VEVENT
SUMMARY:Holy Communion CW
DTSTART:20250126T103000Z
DTEND:20250126T113000Z
DTSTAMP:20260424T164107Z
UID:11472572025-01-26 10:30:00+00:00achurchnearyou
CATEGORIES:
DESCRIPTION:Joint Service
GEO:0.788655;52.060459
LOCATION:Gt Waldingfield\, St Lawrence
URL:https://www.achurchnearyou.com/church/1933/service-and-events/events/1
 147257/
END:VEVENT
END:VCALENDAR
