BEGIN:VCALENDAR
VERSION:2.0
PRODID:-//achurchnearyou.com//eventfeed//EN
CALSCALE:GREGORIAN
METHOD:PUBLISH
X-WR-TIMEZONE:UTC
BEGIN:VEVENT
SUMMARY:Holy Communion CW
DTSTART:20250727T093000Z
DTEND:20250727T103000Z
DTSTAMP:20260424T061006Z
UID:12113102025-07-27 09:30:00+00:00achurchnearyou
CATEGORIES:
DESCRIPTION:Benefice Service  Trinity 6
GEO:0.788655;52.060459
LOCATION:Gt Waldingfield\, St Lawrence
URL:https://www.achurchnearyou.com/church/1933/service-and-events/events/1
 211310/
END:VEVENT
END:VCALENDAR
