BEGIN:VCALENDAR
VERSION:2.0
PRODID:-//achurchnearyou.com//eventfeed//EN
CALSCALE:GREGORIAN
METHOD:PUBLISH
X-WR-TIMEZONE:UTC
BEGIN:VEVENT
SUMMARY:Heritage Weekend
DTSTART:20251025T100000Z
DTEND:20251025T150000Z
DTSTAMP:20260424T055552Z
UID:12189482025-10-25 10:00:00+00:00achurchnearyou
CATEGORIES:
DESCRIPTION:Part of the Reredos Restoration Project.
GEO:0.788655;52.060459
LOCATION:Gt Waldingfield\, St Lawrence
URL:https://www.achurchnearyou.com/church/1933/service-and-events/events/1
 218948/
END:VEVENT
END:VCALENDAR
