BEGIN:VCALENDAR
VERSION:2.0
PRODID:-//achurchnearyou.com//eventfeed//EN
CALSCALE:GREGORIAN
METHOD:PUBLISH
X-WR-TIMEZONE:UTC
BEGIN:VEVENT
SUMMARY:Family Service following Early Birds
DTSTART:20251207T110000Z
DTEND:20251207T120000Z
DTSTAMP:20260423T222411Z
UID:12526782025-12-07 11:00:00+00:00achurchnearyou
CATEGORIES:
DESCRIPTION:Nativity Service
GEO:0.788655;52.060459
LOCATION:Gt Waldingfield\, St Lawrence
URL:https://www.achurchnearyou.com/church/1933/service-and-events/events/1
 252678/
END:VEVENT
END:VCALENDAR
