BEGIN:VCALENDAR
VERSION:2.0
PRODID:-//achurchnearyou.com//eventfeed//EN
CALSCALE:GREGORIAN
METHOD:PUBLISH
X-WR-TIMEZONE:UTC
BEGIN:VEVENT
SUMMARY:Holy Comunion
DTSTART:20251228T103000Z
DTEND:20251228T113000Z
DTSTAMP:20260423T190828Z
UID:12526922025-12-28 10:30:00+00:00achurchnearyou
CATEGORIES:
DESCRIPTION:Christmas 1 - Benefice Service
GEO:0.788655;52.060459
LOCATION:Gt Waldingfield\, St Lawrence
URL:https://www.achurchnearyou.com/church/1933/service-and-events/events/1
 252692/
END:VEVENT
END:VCALENDAR
